
BEGIN:VCALENDAR
VERSION:2.0
PRODID:-//LeFleur Museum District - ECPv6.15.20//NONSGML v1.0//EN
CALSCALE:GREGORIAN
METHOD:PUBLISH
X-ORIGINAL-URL:https://lefleurmuseumdistrict.com
X-WR-CALDESC:Events for LeFleur Museum District
REFRESH-INTERVAL;VALUE=DURATION:PT1H
X-Robots-Tag:noindex
X-PUBLISHED-TTL:PT1H
BEGIN:VTIMEZONE
TZID:America/Detroit
BEGIN:DAYLIGHT
TZOFFSETFROM:-0500
TZOFFSETTO:-0400
TZNAME:EDT
DTSTART:20240310T070000
END:DAYLIGHT
BEGIN:STANDARD
TZOFFSETFROM:-0400
TZOFFSETTO:-0500
TZNAME:EST
DTSTART:20241103T060000
END:STANDARD
BEGIN:DAYLIGHT
TZOFFSETFROM:-0500
TZOFFSETTO:-0400
TZNAME:EDT
DTSTART:20250309T070000
END:DAYLIGHT
BEGIN:STANDARD
TZOFFSETFROM:-0400
TZOFFSETTO:-0500
TZNAME:EST
DTSTART:20251102T060000
END:STANDARD
BEGIN:DAYLIGHT
TZOFFSETFROM:-0500
TZOFFSETTO:-0400
TZNAME:EDT
DTSTART:20260308T070000
END:DAYLIGHT
BEGIN:STANDARD
TZOFFSETFROM:-0400
TZOFFSETTO:-0500
TZNAME:EST
DTSTART:20261101T060000
END:STANDARD
END:VTIMEZONE
BEGIN:VEVENT
DTSTART;TZID=America/Detroit:20250419T100000
DTEND;TZID=America/Detroit:20250419T150000
DTSTAMP:20260422T115428
CREATED:20250212T164910Z
LAST-MODIFIED:20250212T164910Z
UID:2908-1745056800-1745074800@lefleurmuseumdistrict.com
SUMMARY:Easter at the AG Museum
DESCRIPTION:The MS Egg Marketing’s Easter at the Ag Museum will be Sat April 19th\, from 10AM until 3PM. We will feature a bunny trail filled with eggs\, activities\, and more. Experience family fun as you and your children ages 2-15 follow the tracks through the Ag Museum’s bunny trail to collect candy and toy-filled eggs for your children’s baskets! Explore Small town\, take selfies with the Easter Bunny\, visit the new Children’s Barnyard\, dye eggs\, play games\, and enjoy complimentary hotdogs provided by the MS Beef Council. Admission $8 for ages 2 and up. Included with MS AG Foundation membership. For more information\, visit MSAGMusuem.org. Gates open for the bunny trail at 10AM. Enjoy MS Egg Marketing’s Easter at the Ag Museum\, Sponsored by MS Egg Marketing\, Cal-Maine Foods\, and MS Beef Council.
URL:https://lefleurmuseumdistrict.com/event/easter-at-the-ag-museum/
LOCATION:MS AGRICULTURE & FORESTRY MUSEUM\, 1150 Lakeland Drive\, Jackson\, MS\, 39216\, United States
CATEGORIES:MS AGRICULTURE & FORESTRY MUSEUM
END:VEVENT
END:VCALENDAR