
BEGIN:VCALENDAR
VERSION:2.0
PRODID:-//LeFleur Museum District - ECPv6.15.20//NONSGML v1.0//EN
CALSCALE:GREGORIAN
METHOD:PUBLISH
X-ORIGINAL-URL:https://lefleurmuseumdistrict.com
X-WR-CALDESC:Events for LeFleur Museum District
REFRESH-INTERVAL;VALUE=DURATION:PT1H
X-Robots-Tag:noindex
X-PUBLISHED-TTL:PT1H
BEGIN:VTIMEZONE
TZID:America/Detroit
BEGIN:DAYLIGHT
TZOFFSETFROM:-0500
TZOFFSETTO:-0400
TZNAME:EDT
DTSTART:20220313T070000
END:DAYLIGHT
BEGIN:STANDARD
TZOFFSETFROM:-0400
TZOFFSETTO:-0500
TZNAME:EST
DTSTART:20221106T060000
END:STANDARD
BEGIN:DAYLIGHT
TZOFFSETFROM:-0500
TZOFFSETTO:-0400
TZNAME:EDT
DTSTART:20230312T070000
END:DAYLIGHT
BEGIN:STANDARD
TZOFFSETFROM:-0400
TZOFFSETTO:-0500
TZNAME:EST
DTSTART:20231105T060000
END:STANDARD
BEGIN:DAYLIGHT
TZOFFSETFROM:-0500
TZOFFSETTO:-0400
TZNAME:EDT
DTSTART:20240310T070000
END:DAYLIGHT
BEGIN:STANDARD
TZOFFSETFROM:-0400
TZOFFSETTO:-0500
TZNAME:EST
DTSTART:20241103T060000
END:STANDARD
BEGIN:DAYLIGHT
TZOFFSETFROM:-0500
TZOFFSETTO:-0400
TZNAME:EDT
DTSTART:20250309T070000
END:DAYLIGHT
BEGIN:STANDARD
TZOFFSETFROM:-0400
TZOFFSETTO:-0500
TZNAME:EST
DTSTART:20251102T060000
END:STANDARD
END:VTIMEZONE
BEGIN:VEVENT
DTSTART;VALUE=DATE:20240315
DTEND;VALUE=DATE:20240316
DTSTAMP:20260420T022738
CREATED:20230116T181149Z
LAST-MODIFIED:20240202T175406Z
UID:407-1710460800-1710547199@lefleurmuseumdistrict.com
SUMMARY:Math Friday (Week of Wonder)
DESCRIPTION:
URL:https://lefleurmuseumdistrict.com/event/math-friday-week-of-wonder/
LOCATION:MS CHILDREN’S MUSEUM\, 2145 Museum Boulevard\, Jackson\, Mississippi\, 39202
CATEGORIES:MS CHILDREN’S MUSEUM
END:VEVENT
BEGIN:VEVENT
DTSTART;VALUE=DATE:20240314
DTEND;VALUE=DATE:20240315
DTSTAMP:20260420T022738
CREATED:20230116T181111Z
LAST-MODIFIED:20240202T182907Z
UID:405-1710374400-1710460799@lefleurmuseumdistrict.com
SUMMARY:Art Thursday (Week of Wonder)
DESCRIPTION:
URL:https://lefleurmuseumdistrict.com/event/art-thursday-week-of-wonder/
LOCATION:MS CHILDREN’S MUSEUM\, 2145 Museum Boulevard\, Jackson\, Mississippi\, 39202
CATEGORIES:MS CHILDREN’S MUSEUM
END:VEVENT
BEGIN:VEVENT
DTSTART;VALUE=DATE:20240210
DTEND;VALUE=DATE:20240211
DTSTAMP:20260420T022738
CREATED:20230116T180641Z
LAST-MODIFIED:20240202T175216Z
UID:393-1707523200-1707609599@lefleurmuseumdistrict.com
SUMMARY:Ignite the Night
DESCRIPTION:
URL:https://lefleurmuseumdistrict.com/event/ignite-the-night/
LOCATION:MS CHILDREN’S MUSEUM\, 2145 Museum Boulevard\, Jackson\, Mississippi\, 39202
CATEGORIES:MS CHILDREN’S MUSEUM
END:VEVENT
BEGIN:VEVENT
DTSTART;VALUE=DATE:20230916
DTEND;VALUE=DATE:20230917
DTSTAMP:20260420T022738
CREATED:20230116T180009Z
LAST-MODIFIED:20230817T185516Z
UID:381-1694822400-1694908799@lefleurmuseumdistrict.com
SUMMARY:Mississippi Science Fest
DESCRIPTION:
URL:https://lefleurmuseumdistrict.com/event/mississippi-science-fest/
LOCATION:LEFLEUR MUSEUM DISTRICT\, Lakeland Drive and Museum Blvd\, Jackson\, MS\, United States
CATEGORIES:MISSISSIPPI MUSEUM OF NATURAL SCIENCE,MS AGRICULTURE & FORESTRY MUSEUM,MS CHILDREN’S MUSEUM,MS SPORTS HALL OF FAME & MUSEUM
END:VEVENT
BEGIN:VEVENT
DTSTART;VALUE=DATE:20230520
DTEND;VALUE=DATE:20230904
DTSTAMP:20260420T022738
CREATED:20230116T181355Z
LAST-MODIFIED:20230116T181355Z
UID:413-1684540800-1693785599@lefleurmuseumdistrict.com
SUMMARY:Splash & Bubbles: The Traveling Exhibit
DESCRIPTION:
URL:https://lefleurmuseumdistrict.com/event/splash-bubbles-the-traveling-exhibit/
LOCATION:MS CHILDREN’S MUSEUM\, 2145 Museum Boulevard\, Jackson\, Mississippi\, 39202
CATEGORIES:MS CHILDREN’S MUSEUM
END:VEVENT
END:VCALENDAR