
BEGIN:VCALENDAR
VERSION:2.0
PRODID:-//LeFleur Museum District - ECPv6.15.20//NONSGML v1.0//EN
CALSCALE:GREGORIAN
METHOD:PUBLISH
X-WR-CALNAME:LeFleur Museum District
X-ORIGINAL-URL:https://lefleurmuseumdistrict.com
X-WR-CALDESC:Events for LeFleur Museum District
REFRESH-INTERVAL;VALUE=DURATION:PT1H
X-Robots-Tag:noindex
X-PUBLISHED-TTL:PT1H
BEGIN:VTIMEZONE
TZID:America/Detroit
BEGIN:DAYLIGHT
TZOFFSETFROM:-0500
TZOFFSETTO:-0400
TZNAME:EDT
DTSTART:20250309T070000
END:DAYLIGHT
BEGIN:STANDARD
TZOFFSETFROM:-0400
TZOFFSETTO:-0500
TZNAME:EST
DTSTART:20251102T060000
END:STANDARD
BEGIN:DAYLIGHT
TZOFFSETFROM:-0500
TZOFFSETTO:-0400
TZNAME:EDT
DTSTART:20260308T070000
END:DAYLIGHT
BEGIN:STANDARD
TZOFFSETFROM:-0400
TZOFFSETTO:-0500
TZNAME:EST
DTSTART:20261101T060000
END:STANDARD
BEGIN:DAYLIGHT
TZOFFSETFROM:-0500
TZOFFSETTO:-0400
TZNAME:EDT
DTSTART:20270314T070000
END:DAYLIGHT
BEGIN:STANDARD
TZOFFSETFROM:-0400
TZOFFSETTO:-0500
TZNAME:EST
DTSTART:20271107T060000
END:STANDARD
END:VTIMEZONE
BEGIN:VEVENT
DTSTART;TZID=America/Detroit:20260502T100000
DTEND;TZID=America/Detroit:20260502T150000
DTSTAMP:20260419T212653
CREATED:20230116T181249Z
LAST-MODIFIED:20260106T182013Z
UID:411-1777716000-1777734000@lefleurmuseumdistrict.com
SUMMARY:SUPER-Lympics
DESCRIPTION:
URL:https://lefleurmuseumdistrict.com/event/super-lympics/
LOCATION:MS CHILDREN’S MUSEUM\, 2145 Museum Boulevard\, Jackson\, Mississippi\, 39202
CATEGORIES:MS CHILDREN’S MUSEUM
END:VEVENT
BEGIN:VEVENT
DTSTART;VALUE=DATE:20260704
DTEND;VALUE=DATE:20260705
DTSTAMP:20260419T212653
CREATED:20240202T180044Z
LAST-MODIFIED:20260313T181648Z
UID:2660-1783123200-1783209599@lefleurmuseumdistrict.com
SUMMARY:Patriotic Day
DESCRIPTION:
URL:https://lefleurmuseumdistrict.com/event/patriotic-day/
LOCATION:MS CHILDREN’S MUSEUM\, 2145 Museum Boulevard\, Jackson\, Mississippi\, 39202
CATEGORIES:MS CHILDREN’S MUSEUM
END:VEVENT
BEGIN:VEVENT
DTSTART;TZID=America/Detroit:20260725T100000
DTEND;TZID=America/Detroit:20260725T150000
DTSTAMP:20260419T212653
CREATED:20230116T181514Z
LAST-MODIFIED:20260106T185017Z
UID:417-1784973600-1784991600@lefleurmuseumdistrict.com
SUMMARY:Harry Potter's Birthday
DESCRIPTION:
URL:https://lefleurmuseumdistrict.com/event/harry-potter-day/
LOCATION:MS CHILDREN’S MUSEUM\, 2145 Museum Boulevard\, Jackson\, Mississippi\, 39202
CATEGORIES:MS CHILDREN’S MUSEUM
END:VEVENT
BEGIN:VEVENT
DTSTART;TZID=America/Detroit:20261023T173000
DTEND;TZID=America/Detroit:20261023T203000
DTSTAMP:20260419T212653
CREATED:20250818T144203Z
LAST-MODIFIED:20250821T150154Z
UID:3075-1792776600-1792787400@lefleurmuseumdistrict.com
SUMMARY:Park After Dark
DESCRIPTION:
URL:https://lefleurmuseumdistrict.com/event/park-after-dark-4/
LOCATION:MISSISSIPPI MUSEUM OF NATURAL SCIENCE\, 2148 Riverside Dr\, Jackson\, MS\, 39202\, United States
CATEGORIES:MISSISSIPPI MUSEUM OF NATURAL SCIENCE,MS CHILDREN’S MUSEUM
END:VEVENT
END:VCALENDAR