
BEGIN:VCALENDAR
VERSION:2.0
PRODID:-//LeFleur Museum District - ECPv6.15.20//NONSGML v1.0//EN
CALSCALE:GREGORIAN
METHOD:PUBLISH
X-WR-CALNAME:LeFleur Museum District
X-ORIGINAL-URL:https://lefleurmuseumdistrict.com
X-WR-CALDESC:Events for LeFleur Museum District
REFRESH-INTERVAL;VALUE=DURATION:PT1H
X-Robots-Tag:noindex
X-PUBLISHED-TTL:PT1H
BEGIN:VTIMEZONE
TZID:America/Detroit
BEGIN:DAYLIGHT
TZOFFSETFROM:-0500
TZOFFSETTO:-0400
TZNAME:EDT
DTSTART:20220313T070000
END:DAYLIGHT
BEGIN:STANDARD
TZOFFSETFROM:-0400
TZOFFSETTO:-0500
TZNAME:EST
DTSTART:20221106T060000
END:STANDARD
BEGIN:DAYLIGHT
TZOFFSETFROM:-0500
TZOFFSETTO:-0400
TZNAME:EDT
DTSTART:20230312T070000
END:DAYLIGHT
BEGIN:STANDARD
TZOFFSETFROM:-0400
TZOFFSETTO:-0500
TZNAME:EST
DTSTART:20231105T060000
END:STANDARD
BEGIN:DAYLIGHT
TZOFFSETFROM:-0500
TZOFFSETTO:-0400
TZNAME:EDT
DTSTART:20240310T070000
END:DAYLIGHT
BEGIN:STANDARD
TZOFFSETFROM:-0400
TZOFFSETTO:-0500
TZNAME:EST
DTSTART:20241103T060000
END:STANDARD
BEGIN:DAYLIGHT
TZOFFSETFROM:-0500
TZOFFSETTO:-0400
TZNAME:EDT
DTSTART:20250309T070000
END:DAYLIGHT
BEGIN:STANDARD
TZOFFSETFROM:-0400
TZOFFSETTO:-0500
TZNAME:EST
DTSTART:20251102T060000
END:STANDARD
BEGIN:DAYLIGHT
TZOFFSETFROM:-0500
TZOFFSETTO:-0400
TZNAME:EDT
DTSTART:20260308T070000
END:DAYLIGHT
BEGIN:STANDARD
TZOFFSETFROM:-0400
TZOFFSETTO:-0500
TZNAME:EST
DTSTART:20261101T060000
END:STANDARD
BEGIN:DAYLIGHT
TZOFFSETFROM:-0500
TZOFFSETTO:-0400
TZNAME:EDT
DTSTART:20270314T070000
END:DAYLIGHT
BEGIN:STANDARD
TZOFFSETFROM:-0400
TZOFFSETTO:-0500
TZNAME:EST
DTSTART:20271107T060000
END:STANDARD
END:VTIMEZONE
BEGIN:VEVENT
DTSTART;TZID=America/Detroit:20260404T100000
DTEND;TZID=America/Detroit:20260404T150000
DTSTAMP:20260419T231908
CREATED:20230116T181220Z
LAST-MODIFIED:20260123T220018Z
UID:409-1775296800-1775314800@lefleurmuseumdistrict.com
SUMMARY:Bunnies & Butterflies
DESCRIPTION:
URL:https://lefleurmuseumdistrict.com/event/bunnies-butterflies/
LOCATION:MS CHILDREN’S MUSEUM\, 2145 Museum Boulevard\, Jackson\, Mississippi\, 39202
CATEGORIES:MS CHILDREN’S MUSEUM
END:VEVENT
BEGIN:VEVENT
DTSTART;TZID=America/Detroit:20260307T100000
DTEND;TZID=America/Detroit:20260307T150000
DTSTAMP:20260419T231908
CREATED:20230116T180852Z
LAST-MODIFIED:20260123T215945Z
UID:397-1772877600-1772895600@lefleurmuseumdistrict.com
SUMMARY:Space Day
DESCRIPTION:
URL:https://lefleurmuseumdistrict.com/event/space-day/
LOCATION:MS CHILDREN’S MUSEUM\, 2145 Museum Boulevard\, Jackson\, Mississippi\, 39202
CATEGORIES:MS CHILDREN’S MUSEUM
END:VEVENT
BEGIN:VEVENT
DTSTART;TZID=America/Detroit:20260228T100000
DTEND;TZID=America/Detroit:20260228T150000
DTSTAMP:20260419T231908
CREATED:20230116T180812Z
LAST-MODIFIED:20260106T181457Z
UID:395-1772272800-1772290800@lefleurmuseumdistrict.com
SUMMARY:Dr. Seuss' Silly Birthday Celebration
DESCRIPTION:
URL:https://lefleurmuseumdistrict.com/event/dr-seuss-silly-birthday-celebration/
LOCATION:MS CHILDREN’S MUSEUM\, 2145 Museum Boulevard\, Jackson\, Mississippi\, 39202
CATEGORIES:MS CHILDREN’S MUSEUM
END:VEVENT
BEGIN:VEVENT
DTSTART;TZID=America/Detroit:20260117T100000
DTEND;TZID=America/Detroit:20260117T150000
DTSTAMP:20260419T231908
CREATED:20230116T180344Z
LAST-MODIFIED:20260106T181417Z
UID:389-1768644000-1768662000@lefleurmuseumdistrict.com
SUMMARY:Storytelling Festival
DESCRIPTION:
URL:https://lefleurmuseumdistrict.com/event/storytelling-festival/
LOCATION:MS CHILDREN’S MUSEUM\, 2145 Museum Boulevard\, Jackson\, Mississippi\, 39202
CATEGORIES:MS CHILDREN’S MUSEUM
END:VEVENT
BEGIN:VEVENT
DTSTART;VALUE=DATE:20251231
DTEND;VALUE=DATE:20260101
DTSTAMP:20260419T231908
CREATED:20230116T181940Z
LAST-MODIFIED:20250930T210604Z
UID:429-1767139200-1767225599@lefleurmuseumdistrict.com
SUMMARY:Noon Year's Eve
DESCRIPTION:
URL:https://lefleurmuseumdistrict.com/event/noon-years-eve/
LOCATION:MS CHILDREN’S MUSEUM\, 2145 Museum Boulevard\, Jackson\, Mississippi\, 39202
CATEGORIES:MS CHILDREN’S MUSEUM
END:VEVENT
BEGIN:VEVENT
DTSTART;TZID=America/Detroit:20251219T173000
DTEND;TZID=America/Detroit:20251219T193000
DTSTAMP:20260419T231908
CREATED:20251110T155159Z
LAST-MODIFIED:20251114T151934Z
UID:3130-1766165400-1766172600@lefleurmuseumdistrict.com
SUMMARY:Rooks N' Reindeer Chess Tournament
DESCRIPTION:
URL:https://lefleurmuseumdistrict.com/event/rooks-n-reindeer-chess-tournament/
LOCATION:MS CHILDREN’S MUSEUM\, 2145 Museum Boulevard\, Jackson\, Mississippi\, 39202
CATEGORIES:MS CHILDREN’S MUSEUM
END:VEVENT
BEGIN:VEVENT
DTSTART;TZID=America/Detroit:20251205T173000
DTEND;TZID=America/Detroit:20251205T193000
DTSTAMP:20260419T231908
CREATED:20230116T181911Z
LAST-MODIFIED:20251110T155003Z
UID:427-1764955800-1764963000@lefleurmuseumdistrict.com
SUMMARY:​Jammies at Journey
DESCRIPTION:
URL:https://lefleurmuseumdistrict.com/event/jammies-at-journey/
LOCATION:MS CHILDREN’S MUSEUM\, 2145 Museum Boulevard\, Jackson\, Mississippi\, 39202
CATEGORIES:MS CHILDREN’S MUSEUM
END:VEVENT
BEGIN:VEVENT
DTSTART;TZID=America/Detroit:20251124T090000
DTEND;TZID=America/Detroit:20251128T170000
DTSTAMP:20260419T231908
CREATED:20251110T154659Z
LAST-MODIFIED:20251110T154840Z
UID:3126-1763974800-1764349200@lefleurmuseumdistrict.com
SUMMARY:Week of Gratitude
DESCRIPTION:Join the Mississippi Children’s Museum on November 24-28th for our Gratitude Days! This week\, we will have Thanksgiving programming featuring fall crafts\, and story times! Guests can also experience our Thanksgiving exhibit\, the Gratitude Tree\, where visitors can write down something that they are grateful for and place it on the life-sized tree! Visit the Mississippi Children’s Museum website to explore the programs & activities happening this week. \nMEMBER PERK: Family in town for the holidays? Grandparents can enjoy $5 Admission and a free cup of coffee from our Red Rocket Cafe! (Valid Nov. 24 – 28\, 2025\, only for MCM Members)  \nNote: The Mississippi Children’s Museum will be closed on Thursday\, November 27 for the Thanksgiving holiday.
URL:https://lefleurmuseumdistrict.com/event/week-of-gratitude/
LOCATION:Mississippi
CATEGORIES:MS CHILDREN’S MUSEUM
END:VEVENT
BEGIN:VEVENT
DTSTART;VALUE=DATE:20251122
DTEND;VALUE=DATE:20251123
DTSTAMP:20260419T231908
CREATED:20230116T181746Z
LAST-MODIFIED:20250930T210457Z
UID:423-1763769600-1763855999@lefleurmuseumdistrict.com
SUMMARY:A Very Merry Night
DESCRIPTION:
URL:https://lefleurmuseumdistrict.com/event/a-very-merry-night/
LOCATION:MS CHILDREN’S MUSEUM\, 2145 Museum Boulevard\, Jackson\, Mississippi\, 39202
CATEGORIES:MS CHILDREN’S MUSEUM
END:VEVENT
BEGIN:VEVENT
DTSTART;TZID=America/Detroit:20251024T173000
DTEND;TZID=America/Detroit:20251024T203000
DTSTAMP:20260419T231908
CREATED:20250131T175318Z
LAST-MODIFIED:20250821T150403Z
UID:2897-1761327000-1761337800@lefleurmuseumdistrict.com
SUMMARY:Park After Dark
DESCRIPTION:
URL:https://lefleurmuseumdistrict.com/event/park-after-dark-3/
LOCATION:MISSISSIPPI MUSEUM OF NATURAL SCIENCE\, 2148 Riverside Dr\, Jackson\, MS\, 39202\, United States
CATEGORIES:MISSISSIPPI MUSEUM OF NATURAL SCIENCE,MS CHILDREN’S MUSEUM
END:VEVENT
BEGIN:VEVENT
DTSTART;VALUE=DATE:20251018
DTEND;VALUE=DATE:20251019
DTSTAMP:20260419T231908
CREATED:20230116T181600Z
LAST-MODIFIED:20250930T210210Z
UID:419-1760745600-1760831999@lefleurmuseumdistrict.com
SUMMARY:Boo!seum
DESCRIPTION:
URL:https://lefleurmuseumdistrict.com/event/booseum/
LOCATION:MS CHILDREN’S MUSEUM\, 2145 Museum Boulevard\, Jackson\, Mississippi\, 39202
CATEGORIES:MS CHILDREN’S MUSEUM
END:VEVENT
BEGIN:VEVENT
DTSTART;TZID=America/Detroit:20250607T070000
DTEND;TZID=America/Detroit:20250607T150000
DTSTAMP:20260419T231908
CREATED:20250519T194453Z
LAST-MODIFIED:20250519T194600Z
UID:2973-1749279600-1749308400@lefleurmuseumdistrict.com
SUMMARY:Spotter's Splash and Dash
DESCRIPTION:Get ready for the most colorful day of the year! Join the Mississippi Children’s Museum for their very own color fun run down Spotter’s Trail. Participants will line up in their bright white branded t-shirts\, ready to be doused in a rainbow of color as the fun-filled adventure begins! After you cross the finish line\, keep the fun going with a refreshing splash at our splash pad. \nClick here to learn more! 
URL:https://lefleurmuseumdistrict.com/event/spotters-splash-and-dash/
LOCATION:MS CHILDREN’S MUSEUM\, 2145 Museum Boulevard\, Jackson\, Mississippi\, 39202
CATEGORIES:MS CHILDREN’S MUSEUM
END:VEVENT
BEGIN:VEVENT
DTSTART;VALUE=DATE:20250524
DTEND;VALUE=DATE:20250908
DTSTAMP:20260419T231908
CREATED:20250512T162740Z
LAST-MODIFIED:20250512T162802Z
UID:2967-1748044800-1757289599@lefleurmuseumdistrict.com
SUMMARY:Measurement Rules
DESCRIPTION:Visit the Mississippi Children’s Museum for their summer exhibit\, Measurement Rules! 📐🌟 Become a measurement genius by visiting MCM from May 24 – September 7\, 2025! \nLearn more about this visiting summer exhibit by visiting HERE! 🚀
URL:https://lefleurmuseumdistrict.com/event/measurement-rules/
LOCATION:MS CHILDREN’S MUSEUM\, 2145 Museum Boulevard\, Jackson\, Mississippi\, 39202
CATEGORIES:MS CHILDREN’S MUSEUM
END:VEVENT
BEGIN:VEVENT
DTSTART;VALUE=DATE:20250314
DTEND;VALUE=DATE:20250315
DTSTAMP:20260419T231908
CREATED:20240202T183333Z
LAST-MODIFIED:20250107T204653Z
UID:2670-1741910400-1741996799@lefleurmuseumdistrict.com
SUMMARY:Math Friday (Week of Wonder)
DESCRIPTION:
URL:https://lefleurmuseumdistrict.com/event/math-friday-week-of-wonder-2/
LOCATION:MS CHILDREN’S MUSEUM\, 2145 Museum Boulevard\, Jackson\, Mississippi\, 39202
CATEGORIES:MS CHILDREN’S MUSEUM
END:VEVENT
BEGIN:VEVENT
DTSTART;VALUE=DATE:20250313
DTEND;VALUE=DATE:20250314
DTSTAMP:20260419T231908
CREATED:20240202T183005Z
LAST-MODIFIED:20250107T204624Z
UID:2662-1741824000-1741910399@lefleurmuseumdistrict.com
SUMMARY:Art Thursday (Week of Wonder)
DESCRIPTION:
URL:https://lefleurmuseumdistrict.com/event/art-thursday-week-of-wonder-2/
LOCATION:MS CHILDREN’S MUSEUM\, 2145 Museum Boulevard\, Jackson\, Mississippi\, 39202
CATEGORIES:MS CHILDREN’S MUSEUM
END:VEVENT
BEGIN:VEVENT
DTSTART;VALUE=DATE:20250312
DTEND;VALUE=DATE:20250313
DTSTAMP:20260419T231908
CREATED:20230116T181032Z
LAST-MODIFIED:20250107T204543Z
UID:403-1741737600-1741823999@lefleurmuseumdistrict.com
SUMMARY:Engineering Wednesday (Week of Wonder)
DESCRIPTION:
URL:https://lefleurmuseumdistrict.com/event/engineering-wednesday-week-of-wonder/
LOCATION:MS CHILDREN’S MUSEUM\, 2145 Museum Boulevard\, Jackson\, Mississippi\, 39202
CATEGORIES:MS CHILDREN’S MUSEUM
END:VEVENT
BEGIN:VEVENT
DTSTART;VALUE=DATE:20250311
DTEND;VALUE=DATE:20250312
DTSTAMP:20260419T231908
CREATED:20230116T180959Z
LAST-MODIFIED:20250107T204442Z
UID:401-1741651200-1741737599@lefleurmuseumdistrict.com
SUMMARY:Tech Tuesday (Week of Wonder)
DESCRIPTION:
URL:https://lefleurmuseumdistrict.com/event/tech-tuesday-week-of-wonder/
LOCATION:MS CHILDREN’S MUSEUM\, 2145 Museum Boulevard\, Jackson\, Mississippi\, 39202
CATEGORIES:MS CHILDREN’S MUSEUM
END:VEVENT
BEGIN:VEVENT
DTSTART;VALUE=DATE:20250310
DTEND;VALUE=DATE:20250311
DTSTAMP:20260419T231908
CREATED:20230116T180924Z
LAST-MODIFIED:20250107T204330Z
UID:399-1741564800-1741651199@lefleurmuseumdistrict.com
SUMMARY:Science Monday (Week of Wonder)
DESCRIPTION:
URL:https://lefleurmuseumdistrict.com/event/science-monday-week-of-wonder/
LOCATION:MS CHILDREN’S MUSEUM\, 2145 Museum Boulevard\, Jackson\, Mississippi\, 39202
CATEGORIES:MS CHILDREN’S MUSEUM
END:VEVENT
BEGIN:VEVENT
DTSTART;VALUE=DATE:20241124
DTEND;VALUE=DATE:20250106
DTSTAMP:20260419T231909
CREATED:20230116T181835Z
LAST-MODIFIED:20241206T172611Z
UID:425-1732406400-1736121599@lefleurmuseumdistrict.com
SUMMARY:Journey to the North Pole
DESCRIPTION:
URL:https://lefleurmuseumdistrict.com/event/journey-to-the-north-pole/
LOCATION:MS CHILDREN’S MUSEUM\, 2145 Museum Boulevard\, Jackson\, Mississippi\, 39202
CATEGORIES:MS CHILDREN’S MUSEUM
END:VEVENT
BEGIN:VEVENT
DTSTART;VALUE=DATE:20241025
DTEND;VALUE=DATE:20241026
DTSTAMP:20260419T231909
CREATED:20230116T181646Z
LAST-MODIFIED:20240202T183614Z
UID:421-1729814400-1729900799@lefleurmuseumdistrict.com
SUMMARY:Park After Dark
DESCRIPTION:
URL:https://lefleurmuseumdistrict.com/event/park-after-dark-2/
LOCATION:MS CHILDREN’S MUSEUM\, 2145 Museum Boulevard\, Jackson\, Mississippi\, 39202
CATEGORIES:MS CHILDREN’S MUSEUM
END:VEVENT
BEGIN:VEVENT
DTSTART;VALUE=DATE:20240720
DTEND;VALUE=DATE:20240721
DTSTAMP:20260419T231909
CREATED:20230116T181433Z
LAST-MODIFIED:20240202T180450Z
UID:415-1721433600-1721519999@lefleurmuseumdistrict.com
SUMMARY:Neon Night
DESCRIPTION:
URL:https://lefleurmuseumdistrict.com/event/neon-night/
LOCATION:MS CHILDREN’S MUSEUM\, 2145 Museum Boulevard\, Jackson\, Mississippi\, 39202
CATEGORIES:MS CHILDREN’S MUSEUM
END:VEVENT
BEGIN:VEVENT
DTSTART;VALUE=DATE:20240320
DTEND;VALUE=DATE:20240321
DTSTAMP:20260419T231909
CREATED:20240202T183244Z
LAST-MODIFIED:20240202T183407Z
UID:2668-1710892800-1710979199@lefleurmuseumdistrict.com
SUMMARY:Engineering Wednesday (Week of Wonder)
DESCRIPTION:
URL:https://lefleurmuseumdistrict.com/event/engineering-wednesday-week-of-wonder-2/
LOCATION:MS CHILDREN’S MUSEUM\, 2145 Museum Boulevard\, Jackson\, Mississippi\, 39202
CATEGORIES:MS CHILDREN’S MUSEUM
END:VEVENT
BEGIN:VEVENT
DTSTART;VALUE=DATE:20240319
DTEND;VALUE=DATE:20240320
DTSTAMP:20260419T231909
CREATED:20240202T183157Z
LAST-MODIFIED:20240202T183157Z
UID:2666-1710806400-1710892799@lefleurmuseumdistrict.com
SUMMARY:Tech Tuesday (Week of Wonder)
DESCRIPTION:
URL:https://lefleurmuseumdistrict.com/event/tech-tuesday-week-of-wonder-2/
LOCATION:MS CHILDREN’S MUSEUM\, 2145 Museum Boulevard\, Jackson\, Mississippi\, 39202
CATEGORIES:MS CHILDREN’S MUSEUM
END:VEVENT
BEGIN:VEVENT
DTSTART;VALUE=DATE:20240318
DTEND;VALUE=DATE:20240319
DTSTAMP:20260419T231909
CREATED:20240202T183107Z
LAST-MODIFIED:20240202T183107Z
UID:2664-1710720000-1710806399@lefleurmuseumdistrict.com
SUMMARY:Science Monday (Week of Wonder)
DESCRIPTION:
URL:https://lefleurmuseumdistrict.com/event/science-monday-week-of-wonder-2/
LOCATION:MS CHILDREN’S MUSEUM\, 2145 Museum Boulevard\, Jackson\, Mississippi\, 39202
CATEGORIES:MS CHILDREN’S MUSEUM
END:VEVENT
BEGIN:VEVENT
DTSTART;VALUE=DATE:20240315
DTEND;VALUE=DATE:20240316
DTSTAMP:20260419T231909
CREATED:20230116T181149Z
LAST-MODIFIED:20240202T175406Z
UID:407-1710460800-1710547199@lefleurmuseumdistrict.com
SUMMARY:Math Friday (Week of Wonder)
DESCRIPTION:
URL:https://lefleurmuseumdistrict.com/event/math-friday-week-of-wonder/
LOCATION:MS CHILDREN’S MUSEUM\, 2145 Museum Boulevard\, Jackson\, Mississippi\, 39202
CATEGORIES:MS CHILDREN’S MUSEUM
END:VEVENT
BEGIN:VEVENT
DTSTART;VALUE=DATE:20240314
DTEND;VALUE=DATE:20240315
DTSTAMP:20260419T231909
CREATED:20230116T181111Z
LAST-MODIFIED:20240202T182907Z
UID:405-1710374400-1710460799@lefleurmuseumdistrict.com
SUMMARY:Art Thursday (Week of Wonder)
DESCRIPTION:
URL:https://lefleurmuseumdistrict.com/event/art-thursday-week-of-wonder/
LOCATION:MS CHILDREN’S MUSEUM\, 2145 Museum Boulevard\, Jackson\, Mississippi\, 39202
CATEGORIES:MS CHILDREN’S MUSEUM
END:VEVENT
BEGIN:VEVENT
DTSTART;VALUE=DATE:20240210
DTEND;VALUE=DATE:20240211
DTSTAMP:20260419T231909
CREATED:20230116T180641Z
LAST-MODIFIED:20240202T175216Z
UID:393-1707523200-1707609599@lefleurmuseumdistrict.com
SUMMARY:Ignite the Night
DESCRIPTION:
URL:https://lefleurmuseumdistrict.com/event/ignite-the-night/
LOCATION:MS CHILDREN’S MUSEUM\, 2145 Museum Boulevard\, Jackson\, Mississippi\, 39202
CATEGORIES:MS CHILDREN’S MUSEUM
END:VEVENT
BEGIN:VEVENT
DTSTART;VALUE=DATE:20230916
DTEND;VALUE=DATE:20230917
DTSTAMP:20260419T231909
CREATED:20230116T180009Z
LAST-MODIFIED:20230817T185516Z
UID:381-1694822400-1694908799@lefleurmuseumdistrict.com
SUMMARY:Mississippi Science Fest
DESCRIPTION:
URL:https://lefleurmuseumdistrict.com/event/mississippi-science-fest/
LOCATION:LEFLEUR MUSEUM DISTRICT\, Lakeland Drive and Museum Blvd\, Jackson\, MS\, United States
CATEGORIES:MISSISSIPPI MUSEUM OF NATURAL SCIENCE,MS AGRICULTURE & FORESTRY MUSEUM,MS CHILDREN’S MUSEUM,MS SPORTS HALL OF FAME & MUSEUM
END:VEVENT
BEGIN:VEVENT
DTSTART;VALUE=DATE:20230520
DTEND;VALUE=DATE:20230904
DTSTAMP:20260419T231909
CREATED:20230116T181355Z
LAST-MODIFIED:20230116T181355Z
UID:413-1684540800-1693785599@lefleurmuseumdistrict.com
SUMMARY:Splash & Bubbles: The Traveling Exhibit
DESCRIPTION:
URL:https://lefleurmuseumdistrict.com/event/splash-bubbles-the-traveling-exhibit/
LOCATION:MS CHILDREN’S MUSEUM\, 2145 Museum Boulevard\, Jackson\, Mississippi\, 39202
CATEGORIES:MS CHILDREN’S MUSEUM
END:VEVENT
END:VCALENDAR