
BEGIN:VCALENDAR
VERSION:2.0
PRODID:-//LeFleur Museum District - ECPv6.15.20//NONSGML v1.0//EN
CALSCALE:GREGORIAN
METHOD:PUBLISH
X-ORIGINAL-URL:https://lefleurmuseumdistrict.com
X-WR-CALDESC:Events for LeFleur Museum District
REFRESH-INTERVAL;VALUE=DURATION:PT1H
X-Robots-Tag:noindex
X-PUBLISHED-TTL:PT1H
BEGIN:VTIMEZONE
TZID:America/Detroit
BEGIN:DAYLIGHT
TZOFFSETFROM:-0500
TZOFFSETTO:-0400
TZNAME:EDT
DTSTART:20240310T070000
END:DAYLIGHT
BEGIN:STANDARD
TZOFFSETFROM:-0400
TZOFFSETTO:-0500
TZNAME:EST
DTSTART:20241103T060000
END:STANDARD
BEGIN:DAYLIGHT
TZOFFSETFROM:-0500
TZOFFSETTO:-0400
TZNAME:EDT
DTSTART:20250309T070000
END:DAYLIGHT
BEGIN:STANDARD
TZOFFSETFROM:-0400
TZOFFSETTO:-0500
TZNAME:EST
DTSTART:20251102T060000
END:STANDARD
BEGIN:DAYLIGHT
TZOFFSETFROM:-0500
TZOFFSETTO:-0400
TZNAME:EDT
DTSTART:20260308T070000
END:DAYLIGHT
BEGIN:STANDARD
TZOFFSETFROM:-0400
TZOFFSETTO:-0500
TZNAME:EST
DTSTART:20261101T060000
END:STANDARD
END:VTIMEZONE
BEGIN:VEVENT
DTSTART;VALUE=DATE:20251122
DTEND;VALUE=DATE:20251123
DTSTAMP:20260422T064800
CREATED:20230116T181746Z
LAST-MODIFIED:20250930T210457Z
UID:423-1763769600-1763855999@lefleurmuseumdistrict.com
SUMMARY:A Very Merry Night
DESCRIPTION:
URL:https://lefleurmuseumdistrict.com/event/a-very-merry-night/
LOCATION:MS CHILDREN’S MUSEUM\, 2145 Museum Boulevard\, Jackson\, Mississippi\, 39202
CATEGORIES:MS CHILDREN’S MUSEUM
END:VEVENT
BEGIN:VEVENT
DTSTART;TZID=America/Detroit:20251124T090000
DTEND;TZID=America/Detroit:20251128T170000
DTSTAMP:20260422T064800
CREATED:20251110T154659Z
LAST-MODIFIED:20251110T154840Z
UID:3126-1763974800-1764349200@lefleurmuseumdistrict.com
SUMMARY:Week of Gratitude
DESCRIPTION:Join the Mississippi Children’s Museum on November 24-28th for our Gratitude Days! This week\, we will have Thanksgiving programming featuring fall crafts\, and story times! Guests can also experience our Thanksgiving exhibit\, the Gratitude Tree\, where visitors can write down something that they are grateful for and place it on the life-sized tree! Visit the Mississippi Children’s Museum website to explore the programs & activities happening this week. \nMEMBER PERK: Family in town for the holidays? Grandparents can enjoy $5 Admission and a free cup of coffee from our Red Rocket Cafe! (Valid Nov. 24 – 28\, 2025\, only for MCM Members)  \nNote: The Mississippi Children’s Museum will be closed on Thursday\, November 27 for the Thanksgiving holiday.
URL:https://lefleurmuseumdistrict.com/event/week-of-gratitude/
LOCATION:Mississippi
CATEGORIES:MS CHILDREN’S MUSEUM
END:VEVENT
END:VCALENDAR