
BEGIN:VCALENDAR
VERSION:2.0
PRODID:-//LeFleur Museum District - ECPv6.15.20//NONSGML v1.0//EN
CALSCALE:GREGORIAN
METHOD:PUBLISH
X-WR-CALNAME:LeFleur Museum District
X-ORIGINAL-URL:https://lefleurmuseumdistrict.com
X-WR-CALDESC:Events for LeFleur Museum District
REFRESH-INTERVAL;VALUE=DURATION:PT1H
X-Robots-Tag:noindex
X-PUBLISHED-TTL:PT1H
BEGIN:VTIMEZONE
TZID:America/Detroit
BEGIN:DAYLIGHT
TZOFFSETFROM:-0500
TZOFFSETTO:-0400
TZNAME:EDT
DTSTART:20220313T070000
END:DAYLIGHT
BEGIN:STANDARD
TZOFFSETFROM:-0400
TZOFFSETTO:-0500
TZNAME:EST
DTSTART:20221106T060000
END:STANDARD
BEGIN:DAYLIGHT
TZOFFSETFROM:-0500
TZOFFSETTO:-0400
TZNAME:EDT
DTSTART:20230312T070000
END:DAYLIGHT
BEGIN:STANDARD
TZOFFSETFROM:-0400
TZOFFSETTO:-0500
TZNAME:EST
DTSTART:20231105T060000
END:STANDARD
BEGIN:DAYLIGHT
TZOFFSETFROM:-0500
TZOFFSETTO:-0400
TZNAME:EDT
DTSTART:20240310T070000
END:DAYLIGHT
BEGIN:STANDARD
TZOFFSETFROM:-0400
TZOFFSETTO:-0500
TZNAME:EST
DTSTART:20241103T060000
END:STANDARD
BEGIN:DAYLIGHT
TZOFFSETFROM:-0500
TZOFFSETTO:-0400
TZNAME:EDT
DTSTART:20250309T070000
END:DAYLIGHT
BEGIN:STANDARD
TZOFFSETFROM:-0400
TZOFFSETTO:-0500
TZNAME:EST
DTSTART:20251102T060000
END:STANDARD
END:VTIMEZONE
BEGIN:VEVENT
DTSTART;VALUE=DATE:20241105
DTEND;VALUE=DATE:20241110
DTSTAMP:20260422T081307
CREATED:20230116T184026Z
LAST-MODIFIED:20240125T162653Z
UID:450-1730764800-1731196799@lefleurmuseumdistrict.com
SUMMARY:Harvest Fest
DESCRIPTION:
URL:https://lefleurmuseumdistrict.com/event/harvest-fest/
LOCATION:MS AGRICULTURE & FORESTRY MUSEUM\, 1150 Lakeland Drive\, Jackson\, MS\, 39216\, United States
CATEGORIES:MS AGRICULTURE & FORESTRY MUSEUM
END:VEVENT
BEGIN:VEVENT
DTSTART;VALUE=DATE:20241016
DTEND;VALUE=DATE:20241020
DTSTAMP:20260422T081307
CREATED:20230116T183436Z
LAST-MODIFIED:20240125T162355Z
UID:442-1729036800-1729382399@lefleurmuseumdistrict.com
SUMMARY:Pumpkin Adventure
DESCRIPTION:
URL:https://lefleurmuseumdistrict.com/event/pumpkin-adventure/
LOCATION:MS AGRICULTURE & FORESTRY MUSEUM\, 1150 Lakeland Drive\, Jackson\, MS\, 39216\, United States
CATEGORIES:MS AGRICULTURE & FORESTRY MUSEUM
END:VEVENT
BEGIN:VEVENT
DTSTART;VALUE=DATE:20241009
DTEND;VALUE=DATE:20241013
DTSTAMP:20260422T081307
CREATED:20230116T183816Z
LAST-MODIFIED:20240125T162216Z
UID:446-1728432000-1728777599@lefleurmuseumdistrict.com
SUMMARY:Pumpkin Adventure
DESCRIPTION:
URL:https://lefleurmuseumdistrict.com/event/pumpkin-adventure-2/
LOCATION:MS AGRICULTURE & FORESTRY MUSEUM\, 1150 Lakeland Drive\, Jackson\, MS\, 39216\, United States
CATEGORIES:MS AGRICULTURE & FORESTRY MUSEUM
END:VEVENT
BEGIN:VEVENT
DTSTART;VALUE=DATE:20241002
DTEND;VALUE=DATE:20241006
DTSTAMP:20260422T081307
CREATED:20230116T183934Z
LAST-MODIFIED:20240125T160721Z
UID:448-1727827200-1728172799@lefleurmuseumdistrict.com
SUMMARY:Pumpkin Adventure
DESCRIPTION:
URL:https://lefleurmuseumdistrict.com/event/pumpkin-adventure-3/
LOCATION:MS AGRICULTURE & FORESTRY MUSEUM\, 1150 Lakeland Drive\, Jackson\, MS\, 39216\, United States
CATEGORIES:MS AGRICULTURE & FORESTRY MUSEUM
END:VEVENT
BEGIN:VEVENT
DTSTART;VALUE=DATE:20240608
DTEND;VALUE=DATE:20240609
DTSTAMP:20260422T081307
CREATED:20230116T183329Z
LAST-MODIFIED:20240125T162518Z
UID:440-1717804800-1717891199@lefleurmuseumdistrict.com
SUMMARY:Mississippi Pickle Fest
DESCRIPTION:
URL:https://lefleurmuseumdistrict.com/event/mississippi-pickle-fest/
LOCATION:MS AGRICULTURE & FORESTRY MUSEUM\, 1150 Lakeland Drive\, Jackson\, MS\, 39216\, United States
CATEGORIES:MS AGRICULTURE & FORESTRY MUSEUM
END:VEVENT
BEGIN:VEVENT
DTSTART;VALUE=DATE:20240504
DTEND;VALUE=DATE:20240505
DTSTAMP:20260422T081307
CREATED:20230116T183253Z
LAST-MODIFIED:20240125T160234Z
UID:438-1714780800-1714867199@lefleurmuseumdistrict.com
SUMMARY:Night on the Town
DESCRIPTION:
URL:https://lefleurmuseumdistrict.com/event/night-on-the-town/
LOCATION:MS AGRICULTURE & FORESTRY MUSEUM\, 1150 Lakeland Drive\, Jackson\, MS\, 39216\, United States
CATEGORIES:MS AGRICULTURE & FORESTRY MUSEUM
END:VEVENT
BEGIN:VEVENT
DTSTART;VALUE=DATE:20240330
DTEND;VALUE=DATE:20240331
DTSTAMP:20260422T081307
CREATED:20230116T183220Z
LAST-MODIFIED:20240125T155701Z
UID:436-1711756800-1711843199@lefleurmuseumdistrict.com
SUMMARY:​Easter Egg Hunt
DESCRIPTION:
URL:https://lefleurmuseumdistrict.com/event/easter-egg-hunt/
LOCATION:MS AGRICULTURE & FORESTRY MUSEUM\, 1150 Lakeland Drive\, Jackson\, MS\, 39216\, United States
CATEGORIES:MS AGRICULTURE & FORESTRY MUSEUM
END:VEVENT
BEGIN:VEVENT
DTSTART;VALUE=DATE:20240307
DTEND;VALUE=DATE:20240310
DTSTAMP:20260422T081307
CREATED:20230116T183131Z
LAST-MODIFIED:20240125T155337Z
UID:434-1709769600-1710028799@lefleurmuseumdistrict.com
SUMMARY:Spring Farm Days
DESCRIPTION:
URL:https://lefleurmuseumdistrict.com/event/spring-farm-days/
LOCATION:MS AGRICULTURE & FORESTRY MUSEUM\, 1150 Lakeland Drive\, Jackson\, MS\, 39216\, United States
CATEGORIES:MS AGRICULTURE & FORESTRY MUSEUM
END:VEVENT
BEGIN:VEVENT
DTSTART;VALUE=DATE:20230916
DTEND;VALUE=DATE:20230917
DTSTAMP:20260422T081307
CREATED:20230116T180009Z
LAST-MODIFIED:20230817T185516Z
UID:381-1694822400-1694908799@lefleurmuseumdistrict.com
SUMMARY:Mississippi Science Fest
DESCRIPTION:
URL:https://lefleurmuseumdistrict.com/event/mississippi-science-fest/
LOCATION:LEFLEUR MUSEUM DISTRICT\, Lakeland Drive and Museum Blvd\, Jackson\, MS\, United States
CATEGORIES:MISSISSIPPI MUSEUM OF NATURAL SCIENCE,MS AGRICULTURE & FORESTRY MUSEUM,MS CHILDREN’S MUSEUM,MS SPORTS HALL OF FAME & MUSEUM
END:VEVENT
END:VCALENDAR