
BEGIN:VCALENDAR
VERSION:2.0
PRODID:-//LeFleur Museum District - ECPv6.15.20//NONSGML v1.0//EN
CALSCALE:GREGORIAN
METHOD:PUBLISH
X-WR-CALNAME:LeFleur Museum District
X-ORIGINAL-URL:https://lefleurmuseumdistrict.com
X-WR-CALDESC:Events for LeFleur Museum District
REFRESH-INTERVAL;VALUE=DURATION:PT1H
X-Robots-Tag:noindex
X-PUBLISHED-TTL:PT1H
BEGIN:VTIMEZONE
TZID:America/Detroit
BEGIN:DAYLIGHT
TZOFFSETFROM:-0500
TZOFFSETTO:-0400
TZNAME:EDT
DTSTART:20250309T070000
END:DAYLIGHT
BEGIN:STANDARD
TZOFFSETFROM:-0400
TZOFFSETTO:-0500
TZNAME:EST
DTSTART:20251102T060000
END:STANDARD
BEGIN:DAYLIGHT
TZOFFSETFROM:-0500
TZOFFSETTO:-0400
TZNAME:EDT
DTSTART:20260308T070000
END:DAYLIGHT
BEGIN:STANDARD
TZOFFSETFROM:-0400
TZOFFSETTO:-0500
TZNAME:EST
DTSTART:20261101T060000
END:STANDARD
BEGIN:DAYLIGHT
TZOFFSETFROM:-0500
TZOFFSETTO:-0400
TZNAME:EDT
DTSTART:20270314T070000
END:DAYLIGHT
BEGIN:STANDARD
TZOFFSETFROM:-0400
TZOFFSETTO:-0500
TZNAME:EST
DTSTART:20271107T060000
END:STANDARD
END:VTIMEZONE
BEGIN:VEVENT
DTSTART;TZID=America/Detroit:20260305T090000
DTEND;TZID=America/Detroit:20260305T140000
DTSTAMP:20260420T065507
CREATED:20260112T152717Z
LAST-MODIFIED:20260112T153801Z
UID:3197-1772701200-1772719200@lefleurmuseumdistrict.com
SUMMARY:Spring Farm Days at the AG
DESCRIPTION:
URL:https://lefleurmuseumdistrict.com/event/spring-farm-days-thursday/
LOCATION:MS AGRICULTURE & FORESTRY MUSEUM\, 1150 Lakeland Drive\, Jackson\, MS\, 39216\, United States
CATEGORIES:MS AGRICULTURE & FORESTRY MUSEUM
END:VEVENT
BEGIN:VEVENT
DTSTART;TZID=America/Detroit:20260306T090000
DTEND;TZID=America/Detroit:20260306T140000
DTSTAMP:20260420T065507
CREATED:20260112T153550Z
LAST-MODIFIED:20260112T153708Z
UID:3200-1772787600-1772805600@lefleurmuseumdistrict.com
SUMMARY:Spring Farm Days at the AG
DESCRIPTION:
URL:https://lefleurmuseumdistrict.com/event/spring-farm-days-friday/
LOCATION:MS AGRICULTURE & FORESTRY MUSEUM\, 1150 Lakeland Drive\, Jackson\, MS\, 39216\, United States
CATEGORIES:MS AGRICULTURE & FORESTRY MUSEUM
END:VEVENT
BEGIN:VEVENT
DTSTART;TZID=America/Detroit:20260307T090000
DTEND;TZID=America/Detroit:20260307T140000
DTSTAMP:20260420T065507
CREATED:20260112T154005Z
LAST-MODIFIED:20260112T154005Z
UID:3202-1772874000-1772892000@lefleurmuseumdistrict.com
SUMMARY:Spring Farm Days at the AG
DESCRIPTION:
URL:https://lefleurmuseumdistrict.com/event/spring-farm-days-saturday/
LOCATION:MS AGRICULTURE & FORESTRY MUSEUM\, 1150 Lakeland Drive\, Jackson\, MS\, 39216\, United States
CATEGORIES:MS AGRICULTURE & FORESTRY MUSEUM
END:VEVENT
END:VCALENDAR