
BEGIN:VCALENDAR
VERSION:2.0
PRODID:-//LeFleur Museum District - ECPv6.15.20//NONSGML v1.0//EN
CALSCALE:GREGORIAN
METHOD:PUBLISH
X-ORIGINAL-URL:https://lefleurmuseumdistrict.com
X-WR-CALDESC:Events for LeFleur Museum District
REFRESH-INTERVAL;VALUE=DURATION:PT1H
X-Robots-Tag:noindex
X-PUBLISHED-TTL:PT1H
BEGIN:VTIMEZONE
TZID:America/Detroit
BEGIN:DAYLIGHT
TZOFFSETFROM:-0500
TZOFFSETTO:-0400
TZNAME:EDT
DTSTART:20250309T070000
END:DAYLIGHT
BEGIN:STANDARD
TZOFFSETFROM:-0400
TZOFFSETTO:-0500
TZNAME:EST
DTSTART:20251102T060000
END:STANDARD
BEGIN:DAYLIGHT
TZOFFSETFROM:-0500
TZOFFSETTO:-0400
TZNAME:EDT
DTSTART:20260308T070000
END:DAYLIGHT
BEGIN:STANDARD
TZOFFSETFROM:-0400
TZOFFSETTO:-0500
TZNAME:EST
DTSTART:20261101T060000
END:STANDARD
BEGIN:DAYLIGHT
TZOFFSETFROM:-0500
TZOFFSETTO:-0400
TZNAME:EDT
DTSTART:20270314T070000
END:DAYLIGHT
BEGIN:STANDARD
TZOFFSETFROM:-0400
TZOFFSETTO:-0500
TZNAME:EST
DTSTART:20271107T060000
END:STANDARD
END:VTIMEZONE
BEGIN:VEVENT
DTSTART;TZID=America/Detroit:20260211T110000
DTEND;TZID=America/Detroit:20260211T130000
DTSTAMP:20260420T081504
CREATED:20260112T154958Z
LAST-MODIFIED:20260112T154958Z
UID:3206-1770807600-1770814800@lefleurmuseumdistrict.com
SUMMARY:America 250 Quilting Circle
DESCRIPTION:Join our education team throughout the year for our America 250 Quilting Circle. We welcome all ages and skill levels to help make this quilt one for the collection. We will be hosting the Quilting Circle the second Wednesday of every month from 11 AM – 1 PM in the Learning Center.
URL:https://lefleurmuseumdistrict.com/event/america-250-quilting-circle/
LOCATION:MS AGRICULTURE & FORESTRY MUSEUM\, 1150 Lakeland Drive\, Jackson\, MS\, 39216\, United States
CATEGORIES:MS AGRICULTURE & FORESTRY MUSEUM
END:VEVENT
BEGIN:VEVENT
DTSTART;TZID=America/Detroit:20260227T090000
DTEND;TZID=America/Detroit:20260227T120000
DTSTAMP:20260420T081504
CREATED:20260112T155256Z
LAST-MODIFIED:20260112T155256Z
UID:3208-1772182800-1772193600@lefleurmuseumdistrict.com
SUMMARY:Folk Art Friday - Recycled Paper Making
DESCRIPTION:
URL:https://lefleurmuseumdistrict.com/event/folk-art-friday-recycled-paper-making/
LOCATION:MS AGRICULTURE & FORESTRY MUSEUM\, 1150 Lakeland Drive\, Jackson\, MS\, 39216\, United States
CATEGORIES:MS AGRICULTURE & FORESTRY MUSEUM
END:VEVENT
END:VCALENDAR