
BEGIN:VCALENDAR
VERSION:2.0
PRODID:-//LeFleur Museum District - ECPv6.15.20//NONSGML v1.0//EN
CALSCALE:GREGORIAN
METHOD:PUBLISH
X-ORIGINAL-URL:https://lefleurmuseumdistrict.com
X-WR-CALDESC:Events for LeFleur Museum District
REFRESH-INTERVAL;VALUE=DURATION:PT1H
X-Robots-Tag:noindex
X-PUBLISHED-TTL:PT1H
BEGIN:VTIMEZONE
TZID:America/Detroit
BEGIN:DAYLIGHT
TZOFFSETFROM:-0500
TZOFFSETTO:-0400
TZNAME:EDT
DTSTART:20230312T070000
END:DAYLIGHT
BEGIN:STANDARD
TZOFFSETFROM:-0400
TZOFFSETTO:-0500
TZNAME:EST
DTSTART:20231105T060000
END:STANDARD
BEGIN:DAYLIGHT
TZOFFSETFROM:-0500
TZOFFSETTO:-0400
TZNAME:EDT
DTSTART:20240310T070000
END:DAYLIGHT
BEGIN:STANDARD
TZOFFSETFROM:-0400
TZOFFSETTO:-0500
TZNAME:EST
DTSTART:20241103T060000
END:STANDARD
BEGIN:DAYLIGHT
TZOFFSETFROM:-0500
TZOFFSETTO:-0400
TZNAME:EDT
DTSTART:20250309T070000
END:DAYLIGHT
BEGIN:STANDARD
TZOFFSETFROM:-0400
TZOFFSETTO:-0500
TZNAME:EST
DTSTART:20251102T060000
END:STANDARD
BEGIN:DAYLIGHT
TZOFFSETFROM:-0500
TZOFFSETTO:-0400
TZNAME:EDT
DTSTART:20260308T070000
END:DAYLIGHT
BEGIN:STANDARD
TZOFFSETFROM:-0400
TZOFFSETTO:-0500
TZNAME:EST
DTSTART:20261101T060000
END:STANDARD
END:VTIMEZONE
BEGIN:VEVENT
DTSTART;VALUE=DATE:20241116
DTEND;VALUE=DATE:20241117
DTSTAMP:20260420T081658
CREATED:20240222T134703Z
LAST-MODIFIED:20240222T134703Z
UID:2734-1731715200-1731801599@lefleurmuseumdistrict.com
SUMMARY:Tea Party with a T-Rex
DESCRIPTION:
URL:https://lefleurmuseumdistrict.com/event/tea-party-with-a-t-rex/
LOCATION:MISSISSIPPI MUSEUM OF NATURAL SCIENCE\, 2148 Riverside Dr\, Jackson\, MS\, 39202\, United States
CATEGORIES:MISSISSIPPI MUSEUM OF NATURAL SCIENCE
END:VEVENT
BEGIN:VEVENT
DTSTART;VALUE=DATE:20241025
DTEND;VALUE=DATE:20241026
DTSTAMP:20260420T081658
CREATED:20240221T180045Z
LAST-MODIFIED:20240222T131453Z
UID:383-1729814400-1729900799@lefleurmuseumdistrict.com
SUMMARY:Park After Dark
DESCRIPTION:
URL:https://lefleurmuseumdistrict.com/event/park-after-dark/
LOCATION:MISSISSIPPI MUSEUM OF NATURAL SCIENCE\, 2148 Riverside Dr\, Jackson\, MS\, 39202\, United States
CATEGORIES:MISSISSIPPI MUSEUM OF NATURAL SCIENCE
END:VEVENT
BEGIN:VEVENT
DTSTART;TZID=America/Detroit:20241019T100000
DTEND;TZID=America/Detroit:20241019T130000
DTSTAMP:20260420T081658
CREATED:20240916T171932Z
LAST-MODIFIED:20240916T171932Z
UID:2809-1729332000-1729342800@lefleurmuseumdistrict.com
SUMMARY:International Sawfish Day
DESCRIPTION:
URL:https://lefleurmuseumdistrict.com/event/international-sawfish-day/
LOCATION:MISSISSIPPI MUSEUM OF NATURAL SCIENCE\, 2148 Riverside Dr\, Jackson\, MS\, 39202\, United States
CATEGORIES:MISSISSIPPI MUSEUM OF NATURAL SCIENCE
END:VEVENT
BEGIN:VEVENT
DTSTART;TZID=America/Detroit:20241012T110000
DTEND;TZID=America/Detroit:20241012T120000
DTSTAMP:20260420T081658
CREATED:20240911T135234Z
LAST-MODIFIED:20240911T135234Z
UID:2807-1728730800-1728734400@lefleurmuseumdistrict.com
SUMMARY:Lecture: Museum Paleontology Collection - MS's Ice Age Megafauna
DESCRIPTION:
URL:https://lefleurmuseumdistrict.com/event/lecture-museum-paleontology-collection-mss-ice-age-megafauna/
LOCATION:MISSISSIPPI MUSEUM OF NATURAL SCIENCE\, 2148 Riverside Dr\, Jackson\, MS\, 39202\, United States
CATEGORIES:MISSISSIPPI MUSEUM OF NATURAL SCIENCE
END:VEVENT
BEGIN:VEVENT
DTSTART;TZID=America/Detroit:20241012T100000
DTEND;TZID=America/Detroit:20241012T150000
DTSTAMP:20260420T081658
CREATED:20240916T173016Z
LAST-MODIFIED:20240916T173016Z
UID:2811-1728727200-1728745200@lefleurmuseumdistrict.com
SUMMARY:Mississippi Archaeology Expo
DESCRIPTION:
URL:https://lefleurmuseumdistrict.com/event/mississippi-archaeology-expo-2/
LOCATION:MISSISSIPPI MUSEUM OF NATURAL SCIENCE\, 2148 Riverside Dr\, Jackson\, MS\, 39202\, United States
CATEGORIES:MISSISSIPPI MUSEUM OF NATURAL SCIENCE
END:VEVENT
BEGIN:VEVENT
DTSTART;TZID=America/Detroit:20241012T100000
DTEND;TZID=America/Detroit:20241012T150000
DTSTAMP:20260420T081658
CREATED:20240814T144703Z
LAST-MODIFIED:20240814T144703Z
UID:2801-1728727200-1728745200@lefleurmuseumdistrict.com
SUMMARY:Mississippi Archaeology Expo
DESCRIPTION:
URL:https://lefleurmuseumdistrict.com/event/mississippi-archaeology-expo/
LOCATION:MISSISSIPPI MUSEUM OF NATURAL SCIENCE\, 2148 Riverside Dr\, Jackson\, MS\, 39202\, United States
CATEGORIES:MISSISSIPPI MUSEUM OF NATURAL SCIENCE
END:VEVENT
BEGIN:VEVENT
DTSTART;TZID=America/Detroit:20241001T120000
DTEND;TZID=America/Detroit:20241001T130000
DTSTAMP:20260420T081658
CREATED:20240628T124633Z
LAST-MODIFIED:20240708T215301Z
UID:2789-1727784000-1727787600@lefleurmuseumdistrict.com
SUMMARY:Noon Lecture- Bat research and conservation
DESCRIPTION:
URL:https://lefleurmuseumdistrict.com/event/noon-lecture-bat-research-and-conservation/
LOCATION:MISSISSIPPI MUSEUM OF NATURAL SCIENCE\, 2148 Riverside Dr\, Jackson\, MS\, 39202\, United States
CATEGORIES:MISSISSIPPI MUSEUM OF NATURAL SCIENCE
END:VEVENT
BEGIN:VEVENT
DTSTART;TZID=America/Detroit:20240921T100000
DTEND;TZID=America/Detroit:20240921T123000
DTSTAMP:20260420T081658
CREATED:20240905T160247Z
LAST-MODIFIED:20240905T160247Z
UID:2804-1726912800-1726921800@lefleurmuseumdistrict.com
SUMMARY:Wild Wonders Painting Natural MS Class: "Great Explorations"
DESCRIPTION:
URL:https://lefleurmuseumdistrict.com/event/wild-wonders-painting-natural-ms-class-great-explorations/
LOCATION:MISSISSIPPI MUSEUM OF NATURAL SCIENCE\, 2148 Riverside Dr\, Jackson\, MS\, 39202\, United States
CATEGORIES:MISSISSIPPI MUSEUM OF NATURAL SCIENCE
END:VEVENT
BEGIN:VEVENT
DTSTART;TZID=America/Detroit:20240903T120000
DTEND;TZID=America/Detroit:20240903T130000
DTSTAMP:20260420T081658
CREATED:20240628T124513Z
LAST-MODIFIED:20240628T124513Z
UID:2787-1725364800-1725368400@lefleurmuseumdistrict.com
SUMMARY:Noon Lecture - Thinking bigger about small game hunting and management
DESCRIPTION:
URL:https://lefleurmuseumdistrict.com/event/noon-lecture-thinking-bigger-about-small-game-hunting-and-management/
LOCATION:MISSISSIPPI MUSEUM OF NATURAL SCIENCE\, 2148 Riverside Dr\, Jackson\, MS\, 39202\, United States
CATEGORIES:MISSISSIPPI MUSEUM OF NATURAL SCIENCE
END:VEVENT
BEGIN:VEVENT
DTSTART;TZID=America/Detroit:20240806T120000
DTEND;TZID=America/Detroit:20240806T130000
DTSTAMP:20260420T081658
CREATED:20240628T124314Z
LAST-MODIFIED:20240628T124314Z
UID:2785-1722945600-1722949200@lefleurmuseumdistrict.com
SUMMARY:Noon Lecture- MSU Urban Wildlife Research and Extension Program: Now and into the future
DESCRIPTION:
URL:https://lefleurmuseumdistrict.com/event/noon-lecture-msu-urban-wildlife-research-and-extension-program-now-and-into-the-future/
LOCATION:MISSISSIPPI MUSEUM OF NATURAL SCIENCE\, 2148 Riverside Dr\, Jackson\, MS\, 39202\, United States
CATEGORIES:MISSISSIPPI MUSEUM OF NATURAL SCIENCE
END:VEVENT
BEGIN:VEVENT
DTSTART;VALUE=DATE:20240726
DTEND;VALUE=DATE:20240727
DTSTAMP:20260420T081658
CREATED:20240221T175859Z
LAST-MODIFIED:20240222T131603Z
UID:379-1721952000-1722038399@lefleurmuseumdistrict.com
SUMMARY:Water Journey Festival
DESCRIPTION:
URL:https://lefleurmuseumdistrict.com/event/water-journey-festival/
LOCATION:MISSISSIPPI MUSEUM OF NATURAL SCIENCE\, 2148 Riverside Dr\, Jackson\, MS\, 39202\, United States
CATEGORIES:MISSISSIPPI MUSEUM OF NATURAL SCIENCE
END:VEVENT
BEGIN:VEVENT
DTSTART;VALUE=DATE:20240719
DTEND;VALUE=DATE:20240720
DTSTAMP:20260420T081658
CREATED:20240221T175818Z
LAST-MODIFIED:20240222T130323Z
UID:377-1721347200-1721433599@lefleurmuseumdistrict.com
SUMMARY:World Snake Day
DESCRIPTION:
URL:https://lefleurmuseumdistrict.com/event/world-snake-day/
LOCATION:MISSISSIPPI MUSEUM OF NATURAL SCIENCE\, 2148 Riverside Dr\, Jackson\, MS\, 39202\, United States
CATEGORIES:MISSISSIPPI MUSEUM OF NATURAL SCIENCE
END:VEVENT
BEGIN:VEVENT
DTSTART;TZID=America/Detroit:20240715T090000
DTEND;TZID=America/Detroit:20240719T150000
DTSTAMP:20260420T081658
CREATED:20240618T155333Z
LAST-MODIFIED:20240618T155333Z
UID:2780-1721034000-1721401200@lefleurmuseumdistrict.com
SUMMARY:Summer Teacher Workshops
DESCRIPTION:
URL:https://lefleurmuseumdistrict.com/event/summer-teacher-workshops/
LOCATION:MISSISSIPPI MUSEUM OF NATURAL SCIENCE\, 2148 Riverside Dr\, Jackson\, MS\, 39202\, United States
CATEGORIES:MISSISSIPPI MUSEUM OF NATURAL SCIENCE
END:VEVENT
BEGIN:VEVENT
DTSTART;TZID=America/Detroit:20240712T100000
DTEND;TZID=America/Detroit:20240712T120000
DTSTAMP:20260420T081658
CREATED:20240530T151239Z
LAST-MODIFIED:20240530T151239Z
UID:2774-1720778400-1720785600@lefleurmuseumdistrict.com
SUMMARY:Fun Friday - Dinosaurs AND Space
DESCRIPTION:
URL:https://lefleurmuseumdistrict.com/event/fun-friday-dinosaurs-and-space/
LOCATION:MISSISSIPPI MUSEUM OF NATURAL SCIENCE\, 2148 Riverside Dr\, Jackson\, MS\, 39202\, United States
CATEGORIES:MISSISSIPPI MUSEUM OF NATURAL SCIENCE
END:VEVENT
BEGIN:VEVENT
DTSTART;VALUE=DATE:20240712
DTEND;VALUE=DATE:20240713
DTSTAMP:20260420T081658
CREATED:20240222T134606Z
LAST-MODIFIED:20240222T134606Z
UID:2732-1720742400-1720828799@lefleurmuseumdistrict.com
SUMMARY:Fun Friday
DESCRIPTION:
URL:https://lefleurmuseumdistrict.com/event/fun-friday-6/
LOCATION:MISSISSIPPI MUSEUM OF NATURAL SCIENCE\, 2148 Riverside Dr\, Jackson\, MS\, 39202\, United States
CATEGORIES:MISSISSIPPI MUSEUM OF NATURAL SCIENCE
END:VEVENT
BEGIN:VEVENT
DTSTART;TZID=America/Detroit:20240702T120000
DTEND;TZID=America/Detroit:20240702T130000
DTSTAMP:20260420T081658
CREATED:20240628T124117Z
LAST-MODIFIED:20240628T124117Z
UID:2783-1719921600-1719925200@lefleurmuseumdistrict.com
SUMMARY:Noon Lecture - The Dinosaurs of Mississippi
DESCRIPTION:
URL:https://lefleurmuseumdistrict.com/event/noon-lecture-the-dinosaurs-of-mississippi/
LOCATION:MISSISSIPPI MUSEUM OF NATURAL SCIENCE\, 2148 Riverside Dr\, Jackson\, MS\, 39202\, United States
CATEGORIES:MISSISSIPPI MUSEUM OF NATURAL SCIENCE
END:VEVENT
BEGIN:VEVENT
DTSTART;TZID=America/Detroit:20240702T120000
DTEND;TZID=America/Detroit:20240702T130000
DTSTAMP:20260420T081658
CREATED:20240618T152339Z
LAST-MODIFIED:20240618T152339Z
UID:2778-1719921600-1719925200@lefleurmuseumdistrict.com
SUMMARY:First Tuesday Lecture: The Dinosaurs of MS
DESCRIPTION:
URL:https://lefleurmuseumdistrict.com/event/first-tuesday-lecture-the-dinosaurs-of-ms/
LOCATION:MISSISSIPPI MUSEUM OF NATURAL SCIENCE\, 2148 Riverside Dr\, Jackson\, MS\, 39202\, United States
CATEGORIES:MISSISSIPPI MUSEUM OF NATURAL SCIENCE
END:VEVENT
BEGIN:VEVENT
DTSTART;TZID=America/Detroit:20240628T100000
DTEND;TZID=America/Detroit:20240628T120000
DTSTAMP:20260420T081658
CREATED:20240530T151014Z
LAST-MODIFIED:20240530T151014Z
UID:2770-1719568800-1719576000@lefleurmuseumdistrict.com
SUMMARY:Fun Friday -Ancient Environments
DESCRIPTION:
URL:https://lefleurmuseumdistrict.com/event/fun-friday-ancient-environments/
LOCATION:MISSISSIPPI MUSEUM OF NATURAL SCIENCE\, 2148 Riverside Dr\, Jackson\, MS\, 39202\, United States
CATEGORIES:MISSISSIPPI MUSEUM OF NATURAL SCIENCE
END:VEVENT
BEGIN:VEVENT
DTSTART;VALUE=DATE:20240628
DTEND;VALUE=DATE:20240629
DTSTAMP:20260420T081658
CREATED:20240222T134457Z
LAST-MODIFIED:20240222T135028Z
UID:2728-1719532800-1719619199@lefleurmuseumdistrict.com
SUMMARY:Fun Friday
DESCRIPTION:
URL:https://lefleurmuseumdistrict.com/event/fun-friday-4/
LOCATION:MISSISSIPPI MUSEUM OF NATURAL SCIENCE\, 2148 Riverside Dr\, Jackson\, MS\, 39202\, United States
CATEGORIES:MISSISSIPPI MUSEUM OF NATURAL SCIENCE
END:VEVENT
BEGIN:VEVENT
DTSTART;TZID=America/Detroit:20240621T100000
DTEND;TZID=America/Detroit:20240621T120000
DTSTAMP:20260420T081658
CREATED:20240530T150011Z
LAST-MODIFIED:20240530T150011Z
UID:2768-1718964000-1718971200@lefleurmuseumdistrict.com
SUMMARY:Fun Friday -Dino Adaptions
DESCRIPTION:
URL:https://lefleurmuseumdistrict.com/event/fun-friday-dino-adaptions/
LOCATION:MISSISSIPPI MUSEUM OF NATURAL SCIENCE\, 2148 Riverside Dr\, Jackson\, MS\, 39202\, United States
CATEGORIES:MISSISSIPPI MUSEUM OF NATURAL SCIENCE
END:VEVENT
BEGIN:VEVENT
DTSTART;VALUE=DATE:20240621
DTEND;VALUE=DATE:20240622
DTSTAMP:20260420T081658
CREATED:20240222T134427Z
LAST-MODIFIED:20240222T134427Z
UID:2726-1718928000-1719014399@lefleurmuseumdistrict.com
SUMMARY:Fun Friday
DESCRIPTION:
URL:https://lefleurmuseumdistrict.com/event/fun-friday-3/
LOCATION:MISSISSIPPI MUSEUM OF NATURAL SCIENCE\, 2148 Riverside Dr\, Jackson\, MS\, 39202\, United States
CATEGORIES:MISSISSIPPI MUSEUM OF NATURAL SCIENCE
END:VEVENT
BEGIN:VEVENT
DTSTART;TZID=America/Detroit:20240614T100000
DTEND;TZID=America/Detroit:20240614T120000
DTSTAMP:20260420T081658
CREATED:20240530T145923Z
LAST-MODIFIED:20240530T145923Z
UID:2766-1718359200-1718366400@lefleurmuseumdistrict.com
SUMMARY:Fun Friday - Prehistoric Turtles
DESCRIPTION:
URL:https://lefleurmuseumdistrict.com/event/fun-friday-prehistoric-turtles/
LOCATION:MISSISSIPPI MUSEUM OF NATURAL SCIENCE\, 2148 Riverside Dr\, Jackson\, MS\, 39202\, United States
CATEGORIES:MISSISSIPPI MUSEUM OF NATURAL SCIENCE
END:VEVENT
BEGIN:VEVENT
DTSTART;VALUE=DATE:20240614
DTEND;VALUE=DATE:20240615
DTSTAMP:20260420T081658
CREATED:20240222T134345Z
LAST-MODIFIED:20240222T134345Z
UID:2724-1718323200-1718409599@lefleurmuseumdistrict.com
SUMMARY:Fun Friday
DESCRIPTION:
URL:https://lefleurmuseumdistrict.com/event/fun-friday-2/
LOCATION:MISSISSIPPI MUSEUM OF NATURAL SCIENCE\, 2148 Riverside Dr\, Jackson\, MS\, 39202\, United States
CATEGORIES:MISSISSIPPI MUSEUM OF NATURAL SCIENCE
END:VEVENT
BEGIN:VEVENT
DTSTART;VALUE=DATE:20240608
DTEND;VALUE=DATE:20250106
DTSTAMP:20260420T081658
CREATED:20240222T134231Z
LAST-MODIFIED:20240222T134231Z
UID:2722-1717804800-1736121599@lefleurmuseumdistrict.com
SUMMARY:Dinosaurs Around the Word Exhibit
DESCRIPTION:The Museum is Closed on:  \n\nNew Year’s Day\nEaster\nMemorial Day\nJuly 4th\nLabor Day\nThanksgiving\nFriday after Thanksgiving\nChristmas Eve\nChristmas Day\nSubject to change. Please call 601-576-6000 to confirm before visiting.
URL:https://lefleurmuseumdistrict.com/event/dinosaurs-around-the-word-exhibit/
LOCATION:MISSISSIPPI MUSEUM OF NATURAL SCIENCE\, 2148 Riverside Dr\, Jackson\, MS\, 39202\, United States
CATEGORIES:MISSISSIPPI MUSEUM OF NATURAL SCIENCE
END:VEVENT
BEGIN:VEVENT
DTSTART;TZID=America/Detroit:20240607T100000
DTEND;TZID=America/Detroit:20240607T120000
DTSTAMP:20260420T081658
CREATED:20240530T145824Z
LAST-MODIFIED:20240530T145824Z
UID:2764-1717754400-1717761600@lefleurmuseumdistrict.com
SUMMARY:Fun Friday -Dino Defenses
DESCRIPTION:
URL:https://lefleurmuseumdistrict.com/event/fun-friday-dino-defenses/
LOCATION:MISSISSIPPI MUSEUM OF NATURAL SCIENCE\, 2148 Riverside Dr\, Jackson\, MS\, 39202\, United States
CATEGORIES:MISSISSIPPI MUSEUM OF NATURAL SCIENCE
END:VEVENT
BEGIN:VEVENT
DTSTART;VALUE=DATE:20240607
DTEND;VALUE=DATE:20240608
DTSTAMP:20260420T081658
CREATED:20240222T133947Z
LAST-MODIFIED:20240222T133947Z
UID:2720-1717718400-1717804799@lefleurmuseumdistrict.com
SUMMARY:Fun Friday
DESCRIPTION:
URL:https://lefleurmuseumdistrict.com/event/fun-friday/
LOCATION:MISSISSIPPI MUSEUM OF NATURAL SCIENCE\, 2148 Riverside Dr\, Jackson\, MS\, 39202\, United States
CATEGORIES:MISSISSIPPI MUSEUM OF NATURAL SCIENCE
END:VEVENT
BEGIN:VEVENT
DTSTART;TZID=America/Detroit:20240605T110000
DTEND;TZID=America/Detroit:20240605T130000
DTSTAMP:20260420T081658
CREATED:20240523T152449Z
LAST-MODIFIED:20240523T152449Z
UID:2759-1717585200-1717592400@lefleurmuseumdistrict.com
SUMMARY:Mississippi Bug Blues
DESCRIPTION:
URL:https://lefleurmuseumdistrict.com/event/mississippi-bug-blues-2/
LOCATION:MISSISSIPPI MUSEUM OF NATURAL SCIENCE\, 2148 Riverside Dr\, Jackson\, MS\, 39202\, United States
CATEGORIES:MISSISSIPPI MUSEUM OF NATURAL SCIENCE
END:VEVENT
BEGIN:VEVENT
DTSTART;TZID=America/Detroit:20240604T120000
DTEND;TZID=America/Detroit:20240604T130000
DTSTAMP:20260420T081658
CREATED:20240513T205316Z
LAST-MODIFIED:20240513T205316Z
UID:2754-1717502400-1717506000@lefleurmuseumdistrict.com
SUMMARY:Lecture: The Fishes of Mississippi: Treasures in Our Backyards
DESCRIPTION:
URL:https://lefleurmuseumdistrict.com/event/lecture-the-fishes-of-mississippi-treasures-in-our-backyards/
LOCATION:MISSISSIPPI MUSEUM OF NATURAL SCIENCE\, 2148 Riverside Dr\, Jackson\, MS\, 39202\, United States
CATEGORIES:MISSISSIPPI MUSEUM OF NATURAL SCIENCE
END:VEVENT
BEGIN:VEVENT
DTSTART;TZID=America/Detroit:20240530T110000
DTEND;TZID=America/Detroit:20240530T130000
DTSTAMP:20260420T081658
CREATED:20240523T152346Z
LAST-MODIFIED:20240523T152346Z
UID:2757-1717066800-1717074000@lefleurmuseumdistrict.com
SUMMARY:Mississippi Bug Blues
DESCRIPTION:
URL:https://lefleurmuseumdistrict.com/event/mississippi-bug-blues/
LOCATION:MISSISSIPPI MUSEUM OF NATURAL SCIENCE\, 2148 Riverside Dr\, Jackson\, MS\, 39202\, United States
CATEGORIES:MISSISSIPPI MUSEUM OF NATURAL SCIENCE
END:VEVENT
BEGIN:VEVENT
DTSTART;VALUE=DATE:20240525
DTEND;VALUE=DATE:20240526
DTSTAMP:20260420T081658
CREATED:20240415T210803Z
LAST-MODIFIED:20240415T210803Z
UID:2749-1716595200-1716681599@lefleurmuseumdistrict.com
SUMMARY:"Gator Glow: Sunset in the Swamp" Painting Class
DESCRIPTION:
URL:https://lefleurmuseumdistrict.com/event/gator-glow-sunset-in-the-swamp-painting-class/
LOCATION:MISSISSIPPI MUSEUM OF NATURAL SCIENCE\, 2148 Riverside Dr\, Jackson\, MS\, 39202\, United States
CATEGORIES:MISSISSIPPI MUSEUM OF NATURAL SCIENCE
END:VEVENT
END:VCALENDAR