
BEGIN:VCALENDAR
VERSION:2.0
PRODID:-//LeFleur Museum District - ECPv6.15.20//NONSGML v1.0//EN
CALSCALE:GREGORIAN
METHOD:PUBLISH
X-WR-CALNAME:LeFleur Museum District
X-ORIGINAL-URL:https://lefleurmuseumdistrict.com
X-WR-CALDESC:Events for LeFleur Museum District
REFRESH-INTERVAL;VALUE=DURATION:PT1H
X-Robots-Tag:noindex
X-PUBLISHED-TTL:PT1H
BEGIN:VTIMEZONE
TZID:America/Detroit
BEGIN:DAYLIGHT
TZOFFSETFROM:-0500
TZOFFSETTO:-0400
TZNAME:EDT
DTSTART:20240310T070000
END:DAYLIGHT
BEGIN:STANDARD
TZOFFSETFROM:-0400
TZOFFSETTO:-0500
TZNAME:EST
DTSTART:20241103T060000
END:STANDARD
BEGIN:DAYLIGHT
TZOFFSETFROM:-0500
TZOFFSETTO:-0400
TZNAME:EDT
DTSTART:20250309T070000
END:DAYLIGHT
BEGIN:STANDARD
TZOFFSETFROM:-0400
TZOFFSETTO:-0500
TZNAME:EST
DTSTART:20251102T060000
END:STANDARD
BEGIN:DAYLIGHT
TZOFFSETFROM:-0500
TZOFFSETTO:-0400
TZNAME:EDT
DTSTART:20260308T070000
END:DAYLIGHT
BEGIN:STANDARD
TZOFFSETFROM:-0400
TZOFFSETTO:-0500
TZNAME:EST
DTSTART:20261101T060000
END:STANDARD
BEGIN:DAYLIGHT
TZOFFSETFROM:-0500
TZOFFSETTO:-0400
TZNAME:EDT
DTSTART:20270314T070000
END:DAYLIGHT
BEGIN:STANDARD
TZOFFSETFROM:-0400
TZOFFSETTO:-0500
TZNAME:EST
DTSTART:20271107T060000
END:STANDARD
END:VTIMEZONE
BEGIN:VEVENT
DTSTART;TZID=America/Detroit:20250718T100000
DTEND;TZID=America/Detroit:20250718T120000
DTSTAMP:20260420T041830
CREATED:20250324T140131Z
LAST-MODIFIED:20250501T143050Z
UID:2946-1752832800-1752840000@lefleurmuseumdistrict.com
SUMMARY:Fun Friday - Backyard Wildlife
DESCRIPTION:
URL:https://lefleurmuseumdistrict.com/event/fun-friday-backyard-wildlife/
LOCATION:MISSISSIPPI MUSEUM OF NATURAL SCIENCE\, 2148 Riverside Dr\, Jackson\, MS\, 39202\, United States
CATEGORIES:MISSISSIPPI MUSEUM OF NATURAL SCIENCE
END:VEVENT
BEGIN:VEVENT
DTSTART;TZID=America/Detroit:20250711T080000
DTEND;TZID=America/Detroit:20250711T170000
DTSTAMP:20260420T041830
CREATED:20250324T140806Z
LAST-MODIFIED:20250324T140806Z
UID:2952-1752220800-1752253200@lefleurmuseumdistrict.com
SUMMARY:Fun Friday - A year in Color: Nature's Four Seasons
DESCRIPTION:
URL:https://lefleurmuseumdistrict.com/event/fun-friday-a-year-in-color-natures-four-seasons/
LOCATION:MISSISSIPPI MUSEUM OF NATURAL SCIENCE\, 2148 Riverside Dr\, Jackson\, MS\, 39202\, United States
CATEGORIES:MISSISSIPPI MUSEUM OF NATURAL SCIENCE
END:VEVENT
BEGIN:VEVENT
DTSTART;TZID=America/Detroit:20250701T120000
DTEND;TZID=America/Detroit:20250701T130000
DTSTAMP:20260420T041830
CREATED:20250109T200231Z
LAST-MODIFIED:20250109T200231Z
UID:2849-1751371200-1751374800@lefleurmuseumdistrict.com
SUMMARY:Noon Lecture: When Will We Find Life on Another Planet?
DESCRIPTION:
URL:https://lefleurmuseumdistrict.com/event/noon-lecture-when-will-we-find-life-on-another-planet/
LOCATION:MISSISSIPPI MUSEUM OF NATURAL SCIENCE\, 2148 Riverside Dr\, Jackson\, MS\, 39202\, United States
CATEGORIES:MISSISSIPPI MUSEUM OF NATURAL SCIENCE
END:VEVENT
BEGIN:VEVENT
DTSTART;TZID=America/Detroit:20250627T100000
DTEND;TZID=America/Detroit:20250627T120000
DTSTAMP:20260420T041830
CREATED:20250324T140724Z
LAST-MODIFIED:20250324T140724Z
UID:2950-1751018400-1751025600@lefleurmuseumdistrict.com
SUMMARY:Fun Friday - Backyard Bats
DESCRIPTION:
URL:https://lefleurmuseumdistrict.com/event/fun-friday-backyard-bats/
LOCATION:MISSISSIPPI MUSEUM OF NATURAL SCIENCE\, 2148 Riverside Dr\, Jackson\, MS\, 39202\, United States
CATEGORIES:MISSISSIPPI MUSEUM OF NATURAL SCIENCE
END:VEVENT
BEGIN:VEVENT
DTSTART;TZID=America/Detroit:20250620T100000
DTEND;TZID=America/Detroit:20250620T120000
DTSTAMP:20260420T041830
CREATED:20250324T140217Z
LAST-MODIFIED:20250324T140217Z
UID:2948-1750413600-1750420800@lefleurmuseumdistrict.com
SUMMARY:Fun Friday - Where The Wild Things Live
DESCRIPTION:
URL:https://lefleurmuseumdistrict.com/event/fun-friday-where-the-wild-things-live/
LOCATION:MISSISSIPPI MUSEUM OF NATURAL SCIENCE\, 2148 Riverside Dr\, Jackson\, MS\, 39202\, United States
CATEGORIES:MISSISSIPPI MUSEUM OF NATURAL SCIENCE
END:VEVENT
BEGIN:VEVENT
DTSTART;TZID=America/Detroit:20250613T100000
DTEND;TZID=America/Detroit:20250613T140000
DTSTAMP:20260420T041830
CREATED:20250131T174309Z
LAST-MODIFIED:20250407T134204Z
UID:2891-1749808800-1749823200@lefleurmuseumdistrict.com
SUMMARY:World Snake Day
DESCRIPTION:
URL:https://lefleurmuseumdistrict.com/event/world-snake-day-2/
LOCATION:MISSISSIPPI MUSEUM OF NATURAL SCIENCE\, 2148 Riverside Dr\, Jackson\, MS\, 39202\, United States
CATEGORIES:MISSISSIPPI MUSEUM OF NATURAL SCIENCE
END:VEVENT
BEGIN:VEVENT
DTSTART;TZID=America/Detroit:20250607T100000
DTEND;TZID=America/Detroit:20250607T150000
DTSTAMP:20260420T041830
CREATED:20250131T172956Z
LAST-MODIFIED:20250131T172956Z
UID:2889-1749290400-1749308400@lefleurmuseumdistrict.com
SUMMARY:Marine Discovery Day
DESCRIPTION:
URL:https://lefleurmuseumdistrict.com/event/marine-discovery-day-2/
LOCATION:MISSISSIPPI MUSEUM OF NATURAL SCIENCE\, 2148 Riverside Dr\, Jackson\, MS\, 39202\, United States
CATEGORIES:MISSISSIPPI MUSEUM OF NATURAL SCIENCE
END:VEVENT
BEGIN:VEVENT
DTSTART;TZID=America/Detroit:20250606T100000
DTEND;TZID=America/Detroit:20250606T120000
DTSTAMP:20260420T041830
CREATED:20250324T140045Z
LAST-MODIFIED:20250324T140045Z
UID:2944-1749204000-1749211200@lefleurmuseumdistrict.com
SUMMARY:Fun Friday - Backyard Campout
DESCRIPTION:
URL:https://lefleurmuseumdistrict.com/event/fun-friday-backyard-campout/
LOCATION:MISSISSIPPI MUSEUM OF NATURAL SCIENCE\, 2148 Riverside Dr\, Jackson\, MS\, 39202\, United States
CATEGORIES:MISSISSIPPI MUSEUM OF NATURAL SCIENCE
END:VEVENT
BEGIN:VEVENT
DTSTART;TZID=America/Detroit:20250603T120000
DTEND;TZID=America/Detroit:20250603T130000
DTSTAMP:20260420T041830
CREATED:20250109T200146Z
LAST-MODIFIED:20250109T200146Z
UID:2847-1748952000-1748955600@lefleurmuseumdistrict.com
SUMMARY:Noon Lecture: Understanding of Wild Turkey Populations via Citizen Science: Thirty years of MDWFP’s Spring Gobbler Hunting Survey
DESCRIPTION:
URL:https://lefleurmuseumdistrict.com/event/noon-lecture-understanding-of-wild-turkey-populations-via-citizen-science-thirty-years-of-mdwfps-spring-gobbler-hunting-survey/
LOCATION:MISSISSIPPI MUSEUM OF NATURAL SCIENCE\, 2148 Riverside Dr\, Jackson\, MS\, 39202\, United States
CATEGORIES:MISSISSIPPI MUSEUM OF NATURAL SCIENCE
END:VEVENT
BEGIN:VEVENT
DTSTART;VALUE=DATE:20250524
DTEND;VALUE=DATE:20260105
DTSTAMP:20260420T041830
CREATED:20250622T215336Z
LAST-MODIFIED:20250622T220429Z
UID:3012-1748044800-1767571199@lefleurmuseumdistrict.com
SUMMARY:Backyard Adventures
DESCRIPTION:The exhibit celebrates the joy of outdoor play and highlights its impact on both physical and mental well-being and consists of interactive science displays. \n“Backyard Adventures shows that you don’t have to go far to explore something amazing. This exhibit invites you to see the outdoors through a new lens – full of science\, surprises\, and everyday wonder\,” says Museum Director Angel Rohnke. \nThe exhibit is included with the LeFleur Museum District Pass\, museum admission or Mississippi Museum of Natural Science Foundation Membership \n 
URL:https://lefleurmuseumdistrict.com/event/backyard-adventures/
LOCATION:MISSISSIPPI MUSEUM OF NATURAL SCIENCE\, 2148 Riverside Dr\, Jackson\, MS\, 39202\, United States
CATEGORIES:MISSISSIPPI MUSEUM OF NATURAL SCIENCE
END:VEVENT
BEGIN:VEVENT
DTSTART;TZID=America/Detroit:20250518T130000
DTEND;TZID=America/Detroit:20250518T150000
DTSTAMP:20260420T041830
CREATED:20250407T183237Z
LAST-MODIFIED:20250407T183237Z
UID:2955-1747573200-1747580400@lefleurmuseumdistrict.com
SUMMARY:Girl Scout Junior Detectives Badge Workshop
DESCRIPTION:
URL:https://lefleurmuseumdistrict.com/event/girl-scout-junior-detectives-badge-workshop/
LOCATION:MISSISSIPPI MUSEUM OF NATURAL SCIENCE\, 2148 Riverside Dr\, Jackson\, MS\, 39202\, United States
CATEGORIES:MISSISSIPPI MUSEUM OF NATURAL SCIENCE
END:VEVENT
BEGIN:VEVENT
DTSTART;TZID=America/Detroit:20250510T100000
DTEND;TZID=America/Detroit:20250510T123000
DTSTAMP:20260420T041830
CREATED:20250414T134644Z
LAST-MODIFIED:20250429T141523Z
UID:2957-1746871200-1746880200@lefleurmuseumdistrict.com
SUMMARY:SOLD OUT - Wild Wonders: Painting Natural Mississippi Series - Tortoise Tales
DESCRIPTION:
URL:https://lefleurmuseumdistrict.com/event/wild-wonders-painting-natural-mississippi-series-tortoise-tales/
LOCATION:MISSISSIPPI MUSEUM OF NATURAL SCIENCE\, 2148 Riverside Dr\, Jackson\, MS\, 39202\, United States
CATEGORIES:MISSISSIPPI MUSEUM OF NATURAL SCIENCE
END:VEVENT
BEGIN:VEVENT
DTSTART;TZID=America/Detroit:20250509T183000
DTEND;TZID=America/Detroit:20250509T210000
DTSTAMP:20260420T041830
CREATED:20250131T170025Z
LAST-MODIFIED:20250131T170025Z
UID:2887-1746815400-1746824400@lefleurmuseumdistrict.com
SUMMARY:Owl Prowl
DESCRIPTION:
URL:https://lefleurmuseumdistrict.com/event/owl-prowl-2/
LOCATION:MISSISSIPPI MUSEUM OF NATURAL SCIENCE\, 2148 Riverside Dr\, Jackson\, MS\, 39202\, United States
CATEGORIES:MISSISSIPPI MUSEUM OF NATURAL SCIENCE
END:VEVENT
BEGIN:VEVENT
DTSTART;TZID=America/Detroit:20250506T120000
DTEND;TZID=America/Detroit:20250506T130000
DTSTAMP:20260420T041830
CREATED:20250109T200051Z
LAST-MODIFIED:20250109T200051Z
UID:2845-1746532800-1746536400@lefleurmuseumdistrict.com
SUMMARY:Noon Lecture: Black Bear in Mississippi
DESCRIPTION:
URL:https://lefleurmuseumdistrict.com/event/noon-lecture-black-bear-in-mississippi/
LOCATION:MISSISSIPPI MUSEUM OF NATURAL SCIENCE\, 2148 Riverside Dr\, Jackson\, MS\, 39202\, United States
CATEGORIES:MISSISSIPPI MUSEUM OF NATURAL SCIENCE
END:VEVENT
BEGIN:VEVENT
DTSTART;TZID=America/Detroit:20250503T193000
DTEND;TZID=America/Detroit:20250503T220000
DTSTAMP:20260420T041830
CREATED:20250131T165448Z
LAST-MODIFIED:20250424T212609Z
UID:2885-1746300600-1746309600@lefleurmuseumdistrict.com
SUMMARY:Moonlight\, Music & Meteors
DESCRIPTION:
URL:https://lefleurmuseumdistrict.com/event/moonlight-music-meteors/
LOCATION:MISSISSIPPI MUSEUM OF NATURAL SCIENCE\, 2148 Riverside Dr\, Jackson\, MS\, 39202\, United States
CATEGORIES:MISSISSIPPI MUSEUM OF NATURAL SCIENCE
END:VEVENT
BEGIN:VEVENT
DTSTART;TZID=America/Detroit:20250411T180000
DTEND;TZID=America/Detroit:20250411T210000
DTSTAMP:20260420T041830
CREATED:20250313T152026Z
LAST-MODIFIED:20250313T152026Z
UID:2934-1744394400-1744405200@lefleurmuseumdistrict.com
SUMMARY:Trivia Night at the Museum
DESCRIPTION:
URL:https://lefleurmuseumdistrict.com/event/trivia-night-at-the-museum/
LOCATION:MISSISSIPPI MUSEUM OF NATURAL SCIENCE\, 2148 Riverside Dr\, Jackson\, MS\, 39202\, United States
CATEGORIES:MISSISSIPPI MUSEUM OF NATURAL SCIENCE
END:VEVENT
BEGIN:VEVENT
DTSTART;TZID=America/Detroit:20250405T100000
DTEND;TZID=America/Detroit:20250405T160000
DTSTAMP:20260420T041830
CREATED:20250131T165357Z
LAST-MODIFIED:20250131T165357Z
UID:2883-1743847200-1743868800@lefleurmuseumdistrict.com
SUMMARY:NatureFEST
DESCRIPTION:
URL:https://lefleurmuseumdistrict.com/event/naturefest-2/
LOCATION:MISSISSIPPI MUSEUM OF NATURAL SCIENCE\, 2148 Riverside Dr\, Jackson\, MS\, 39202\, United States
CATEGORIES:MISSISSIPPI MUSEUM OF NATURAL SCIENCE
END:VEVENT
BEGIN:VEVENT
DTSTART;TZID=America/Detroit:20250401T120000
DTEND;TZID=America/Detroit:20250401T130000
DTSTAMP:20260420T041830
CREATED:20250109T195946Z
LAST-MODIFIED:20250109T195946Z
UID:2843-1743508800-1743512400@lefleurmuseumdistrict.com
SUMMARY:Noon Lecture: "April Fool! Nature's Mimics"
DESCRIPTION:
URL:https://lefleurmuseumdistrict.com/event/noon-lecture-april-fool-natures-mimics/
LOCATION:MISSISSIPPI MUSEUM OF NATURAL SCIENCE\, 2148 Riverside Dr\, Jackson\, MS\, 39202\, United States
CATEGORIES:MISSISSIPPI MUSEUM OF NATURAL SCIENCE
END:VEVENT
BEGIN:VEVENT
DTSTART;TZID=America/Detroit:20250312T100000
DTEND;TZID=America/Detroit:20250312T120000
DTSTAMP:20260420T041830
CREATED:20250131T165310Z
LAST-MODIFIED:20250131T165310Z
UID:2881-1741773600-1741780800@lefleurmuseumdistrict.com
SUMMARY:Pollinator Day 2025
DESCRIPTION:
URL:https://lefleurmuseumdistrict.com/event/pollinator-day-2025/
LOCATION:MISSISSIPPI MUSEUM OF NATURAL SCIENCE\, 2148 Riverside Dr\, Jackson\, MS\, 39202\, United States
CATEGORIES:MISSISSIPPI MUSEUM OF NATURAL SCIENCE
END:VEVENT
BEGIN:VEVENT
DTSTART;TZID=America/Detroit:20250310T090000
DTEND;TZID=America/Detroit:20250310T150000
DTSTAMP:20260420T041830
CREATED:20250131T164742Z
LAST-MODIFIED:20250131T164742Z
UID:2879-1741597200-1741618800@lefleurmuseumdistrict.com
SUMMARY:CEU Teacher Workshops
DESCRIPTION:
URL:https://lefleurmuseumdistrict.com/event/ceu-teacher-workshops-2/
LOCATION:MISSISSIPPI MUSEUM OF NATURAL SCIENCE\, 2148 Riverside Dr\, Jackson\, MS\, 39202\, United States
CATEGORIES:MISSISSIPPI MUSEUM OF NATURAL SCIENCE
END:VEVENT
BEGIN:VEVENT
DTSTART;VALUE=DATE:20250310
DTEND;VALUE=DATE:20250314
DTSTAMP:20260420T041830
CREATED:20250131T164637Z
LAST-MODIFIED:20250220T151107Z
UID:2877-1741564800-1741910399@lefleurmuseumdistrict.com
SUMMARY:FULL - Spring Break Camp Grades 1-3
DESCRIPTION:
URL:https://lefleurmuseumdistrict.com/event/spring-break-camp-grades-1-3/
LOCATION:MISSISSIPPI MUSEUM OF NATURAL SCIENCE\, 2148 Riverside Dr\, Jackson\, MS\, 39202\, United States
CATEGORIES:MISSISSIPPI MUSEUM OF NATURAL SCIENCE
END:VEVENT
BEGIN:VEVENT
DTSTART;TZID=America/Detroit:20250307T090000
DTEND;TZID=America/Detroit:20250307T123000
DTSTAMP:20260420T041830
CREATED:20250131T164319Z
LAST-MODIFIED:20250131T164319Z
UID:2875-1741338000-1741350600@lefleurmuseumdistrict.com
SUMMARY:Science Makers Day 2
DESCRIPTION:
URL:https://lefleurmuseumdistrict.com/event/science-makers-day-2/
LOCATION:MISSISSIPPI MUSEUM OF NATURAL SCIENCE\, 2148 Riverside Dr\, Jackson\, MS\, 39202\, United States
CATEGORIES:MISSISSIPPI MUSEUM OF NATURAL SCIENCE
END:VEVENT
BEGIN:VEVENT
DTSTART;TZID=America/Detroit:20250306T090000
DTEND;TZID=America/Detroit:20250306T123000
DTSTAMP:20260420T041830
CREATED:20250131T164235Z
LAST-MODIFIED:20250131T164235Z
UID:2873-1741251600-1741264200@lefleurmuseumdistrict.com
SUMMARY:Science Makers Day 1
DESCRIPTION:
URL:https://lefleurmuseumdistrict.com/event/science-makers-day-1/
LOCATION:MISSISSIPPI MUSEUM OF NATURAL SCIENCE\, 2148 Riverside Dr\, Jackson\, MS\, 39202\, United States
CATEGORIES:MISSISSIPPI MUSEUM OF NATURAL SCIENCE
END:VEVENT
BEGIN:VEVENT
DTSTART;TZID=America/Detroit:20250304T120000
DTEND;TZID=America/Detroit:20250304T130000
DTSTAMP:20260420T041830
CREATED:20250109T195853Z
LAST-MODIFIED:20250109T195853Z
UID:2841-1741089600-1741093200@lefleurmuseumdistrict.com
SUMMARY:Noon Lecture: Evolution of Crappie Fishing and Management in Mississippi
DESCRIPTION:
URL:https://lefleurmuseumdistrict.com/event/noon-lecture-evolution-of-crappie-fishing-and-management-in-mississippi/
LOCATION:MISSISSIPPI MUSEUM OF NATURAL SCIENCE\, 2148 Riverside Dr\, Jackson\, MS\, 39202\, United States
CATEGORIES:MISSISSIPPI MUSEUM OF NATURAL SCIENCE
END:VEVENT
BEGIN:VEVENT
DTSTART;TZID=America/Detroit:20250301T100000
DTEND;TZID=America/Detroit:20250301T150000
DTSTAMP:20260420T041830
CREATED:20250131T164149Z
LAST-MODIFIED:20250131T164149Z
UID:2871-1740823200-1740841200@lefleurmuseumdistrict.com
SUMMARY:Fossil Road Show 2025
DESCRIPTION:
URL:https://lefleurmuseumdistrict.com/event/fossil-road-show-2025/
LOCATION:MISSISSIPPI MUSEUM OF NATURAL SCIENCE\, 2148 Riverside Dr\, Jackson\, MS\, 39202\, United States
CATEGORIES:MISSISSIPPI MUSEUM OF NATURAL SCIENCE
END:VEVENT
BEGIN:VEVENT
DTSTART;TZID=America/Detroit:20250222T100000
DTEND;TZID=America/Detroit:20250222T123000
DTSTAMP:20260420T041830
CREATED:20250131T164053Z
LAST-MODIFIED:20250131T164053Z
UID:2869-1740218400-1740227400@lefleurmuseumdistrict.com
SUMMARY:Wild Wonders Painting Natural MS: White-Tailed Adventures
DESCRIPTION:
URL:https://lefleurmuseumdistrict.com/event/wild-wonders-painting-natural-ms-white-tailed-adventures/
LOCATION:MISSISSIPPI MUSEUM OF NATURAL SCIENCE\, 2148 Riverside Dr\, Jackson\, MS\, 39202\, United States
CATEGORIES:MISSISSIPPI MUSEUM OF NATURAL SCIENCE
END:VEVENT
BEGIN:VEVENT
DTSTART;TZID=America/Detroit:20250214T090000
DTEND;TZID=America/Detroit:20250214T120000
DTSTAMP:20260420T041830
CREATED:20250131T164008Z
LAST-MODIFIED:20250131T164008Z
UID:2867-1739523600-1739534400@lefleurmuseumdistrict.com
SUMMARY:S.T.E.M.\, Leaves\, and Trees 2025
DESCRIPTION:
URL:https://lefleurmuseumdistrict.com/event/s-t-e-m-leaves-and-trees-2025/
LOCATION:MISSISSIPPI MUSEUM OF NATURAL SCIENCE\, 2148 Riverside Dr\, Jackson\, MS\, 39202\, United States
CATEGORIES:MISSISSIPPI MUSEUM OF NATURAL SCIENCE
END:VEVENT
BEGIN:VEVENT
DTSTART;TZID=America/Detroit:20250209T130000
DTEND;TZID=America/Detroit:20250209T150000
DTSTAMP:20260420T041830
CREATED:20250131T163909Z
LAST-MODIFIED:20250131T163909Z
UID:2865-1739106000-1739113200@lefleurmuseumdistrict.com
SUMMARY:Daisy Scouts: Math in Nature Workshop
DESCRIPTION:
URL:https://lefleurmuseumdistrict.com/event/daisy-scouts-math-in-nature-workshop/
LOCATION:MISSISSIPPI MUSEUM OF NATURAL SCIENCE\, 2148 Riverside Dr\, Jackson\, MS\, 39202\, United States
CATEGORIES:MISSISSIPPI MUSEUM OF NATURAL SCIENCE
END:VEVENT
BEGIN:VEVENT
DTSTART;TZID=America/Detroit:20250208T100000
DTEND;TZID=America/Detroit:20250208T120000
DTSTAMP:20260420T041830
CREATED:20250131T163812Z
LAST-MODIFIED:20250131T163812Z
UID:2863-1739008800-1739016000@lefleurmuseumdistrict.com
SUMMARY:For the Love of Science STEM Workshop
DESCRIPTION:
URL:https://lefleurmuseumdistrict.com/event/for-the-love-of-science-stem-workshop/
LOCATION:MISSISSIPPI MUSEUM OF NATURAL SCIENCE\, 2148 Riverside Dr\, Jackson\, MS\, 39202\, United States
CATEGORIES:MISSISSIPPI MUSEUM OF NATURAL SCIENCE
END:VEVENT
BEGIN:VEVENT
DTSTART;TZID=America/Detroit:20250204T120000
DTEND;TZID=America/Detroit:20250204T130000
DTSTAMP:20260420T041830
CREATED:20250109T195725Z
LAST-MODIFIED:20250109T195725Z
UID:2839-1738670400-1738674000@lefleurmuseumdistrict.com
SUMMARY:Noon Lecture: Aquatic Mammals and Coastal ONE Health
DESCRIPTION:
URL:https://lefleurmuseumdistrict.com/event/noon-lecture-aquatic-mammals-and-coastal-one-health/
LOCATION:MISSISSIPPI MUSEUM OF NATURAL SCIENCE\, 2148 Riverside Dr\, Jackson\, MS\, 39202\, United States
CATEGORIES:MISSISSIPPI MUSEUM OF NATURAL SCIENCE
END:VEVENT
END:VCALENDAR