
BEGIN:VCALENDAR
VERSION:2.0
PRODID:-//LeFleur Museum District - ECPv6.15.20//NONSGML v1.0//EN
CALSCALE:GREGORIAN
METHOD:PUBLISH
X-WR-CALNAME:LeFleur Museum District
X-ORIGINAL-URL:https://lefleurmuseumdistrict.com
X-WR-CALDESC:Events for LeFleur Museum District
REFRESH-INTERVAL;VALUE=DURATION:PT1H
X-Robots-Tag:noindex
X-PUBLISHED-TTL:PT1H
BEGIN:VTIMEZONE
TZID:America/Detroit
BEGIN:DAYLIGHT
TZOFFSETFROM:-0500
TZOFFSETTO:-0400
TZNAME:EDT
DTSTART:20240310T070000
END:DAYLIGHT
BEGIN:STANDARD
TZOFFSETFROM:-0400
TZOFFSETTO:-0500
TZNAME:EST
DTSTART:20241103T060000
END:STANDARD
BEGIN:DAYLIGHT
TZOFFSETFROM:-0500
TZOFFSETTO:-0400
TZNAME:EDT
DTSTART:20250309T070000
END:DAYLIGHT
BEGIN:STANDARD
TZOFFSETFROM:-0400
TZOFFSETTO:-0500
TZNAME:EST
DTSTART:20251102T060000
END:STANDARD
BEGIN:DAYLIGHT
TZOFFSETFROM:-0500
TZOFFSETTO:-0400
TZNAME:EDT
DTSTART:20260308T070000
END:DAYLIGHT
BEGIN:STANDARD
TZOFFSETFROM:-0400
TZOFFSETTO:-0500
TZNAME:EST
DTSTART:20261101T060000
END:STANDARD
BEGIN:DAYLIGHT
TZOFFSETFROM:-0500
TZOFFSETTO:-0400
TZNAME:EDT
DTSTART:20270314T070000
END:DAYLIGHT
BEGIN:STANDARD
TZOFFSETFROM:-0400
TZOFFSETTO:-0500
TZNAME:EST
DTSTART:20271107T060000
END:STANDARD
END:VTIMEZONE
BEGIN:VEVENT
DTSTART;TZID=America/Detroit:20260417T193000
DTEND;TZID=America/Detroit:20260417T220000
DTSTAMP:20260419T232008
CREATED:20250818T143845Z
LAST-MODIFIED:20250818T143845Z
UID:3067-1776454200-1776463200@lefleurmuseumdistrict.com
SUMMARY:Moonlight\, Music\, and Meteors
DESCRIPTION:
URL:https://lefleurmuseumdistrict.com/event/moonlight-music-and-meteors/
LOCATION:MISSISSIPPI MUSEUM OF NATURAL SCIENCE\, 2148 Riverside Dr\, Jackson\, MS\, 39202\, United States
CATEGORIES:MISSISSIPPI MUSEUM OF NATURAL SCIENCE
END:VEVENT
BEGIN:VEVENT
DTSTART;TZID=America/Detroit:20260411T100000
DTEND;TZID=America/Detroit:20260411T160000
DTSTAMP:20260419T232008
CREATED:20250818T143511Z
LAST-MODIFIED:20250818T143511Z
UID:3065-1775901600-1775923200@lefleurmuseumdistrict.com
SUMMARY:NatureFEST
DESCRIPTION:
URL:https://lefleurmuseumdistrict.com/event/naturefest-3/
LOCATION:MISSISSIPPI MUSEUM OF NATURAL SCIENCE\, 2148 Riverside Dr\, Jackson\, MS\, 39202\, United States
CATEGORIES:MISSISSIPPI MUSEUM OF NATURAL SCIENCE
END:VEVENT
BEGIN:VEVENT
DTSTART;TZID=America/Detroit:20260407T120000
DTEND;TZID=America/Detroit:20260407T130000
DTSTAMP:20260419T232008
CREATED:20251107T192913Z
LAST-MODIFIED:20251107T192913Z
UID:3112-1775563200-1775566800@lefleurmuseumdistrict.com
SUMMARY:April Noon Lecture - "Landscaping for Hummingbirds"
DESCRIPTION:
URL:https://lefleurmuseumdistrict.com/event/april-noon-lecture-landscaping-for-hummingbirds/
LOCATION:MISSISSIPPI MUSEUM OF NATURAL SCIENCE\, 2148 Riverside Dr\, Jackson\, MS\, 39202\, United States
CATEGORIES:MISSISSIPPI MUSEUM OF NATURAL SCIENCE
END:VEVENT
BEGIN:VEVENT
DTSTART;TZID=America/Detroit:20260328T100000
DTEND;TZID=America/Detroit:20260328T120000
DTSTAMP:20260419T232008
CREATED:20260121T162516Z
LAST-MODIFIED:20260121T162516Z
UID:3261-1774692000-1774699200@lefleurmuseumdistrict.com
SUMMARY:Freedom Ranch Animal Shows
DESCRIPTION:
URL:https://lefleurmuseumdistrict.com/event/freedom-ranch-animal-shows/
LOCATION:MISSISSIPPI MUSEUM OF NATURAL SCIENCE\, 2148 Riverside Dr\, Jackson\, MS\, 39202\, United States
CATEGORIES:MISSISSIPPI MUSEUM OF NATURAL SCIENCE
END:VEVENT
BEGIN:VEVENT
DTSTART;TZID=America/Detroit:20260321T100000
DTEND;TZID=America/Detroit:20260321T120000
DTSTAMP:20260419T232008
CREATED:20260224T155140Z
LAST-MODIFIED:20260224T155140Z
UID:3277-1774087200-1774094400@lefleurmuseumdistrict.com
SUMMARY:2\,000 Miles of Inspirations: Painting the Appalachian Trail
DESCRIPTION:
URL:https://lefleurmuseumdistrict.com/event/2000-miles-of-inspirations-painting-the-appalachian-trail/
LOCATION:MISSISSIPPI MUSEUM OF NATURAL SCIENCE\, 2148 Riverside Dr\, Jackson\, MS\, 39202\, United States
CATEGORIES:MISSISSIPPI MUSEUM OF NATURAL SCIENCE
END:VEVENT
BEGIN:VEVENT
DTSTART;TZID=America/Detroit:20260314T100000
DTEND;TZID=America/Detroit:20260314T120000
DTSTAMP:20260419T232008
CREATED:20250818T143433Z
LAST-MODIFIED:20250818T143433Z
UID:3063-1773482400-1773489600@lefleurmuseumdistrict.com
SUMMARY:Pollinator Day
DESCRIPTION:
URL:https://lefleurmuseumdistrict.com/event/pollinator-day-2/
LOCATION:MISSISSIPPI MUSEUM OF NATURAL SCIENCE\, 2148 Riverside Dr\, Jackson\, MS\, 39202\, United States
CATEGORIES:MISSISSIPPI MUSEUM OF NATURAL SCIENCE
END:VEVENT
BEGIN:VEVENT
DTSTART;TZID=America/Detroit:20260310T100000
DTEND;TZID=America/Detroit:20260310T113000
DTSTAMP:20260419T232008
CREATED:20260121T162434Z
LAST-MODIFIED:20260121T162434Z
UID:3259-1773136800-1773142200@lefleurmuseumdistrict.com
SUMMARY:Magic Show with Dorian the Magician
DESCRIPTION:
URL:https://lefleurmuseumdistrict.com/event/magic-show-with-dorian-the-magician/
LOCATION:MISSISSIPPI MUSEUM OF NATURAL SCIENCE\, 2148 Riverside Dr\, Jackson\, MS\, 39202\, United States
CATEGORIES:MISSISSIPPI MUSEUM OF NATURAL SCIENCE
END:VEVENT
BEGIN:VEVENT
DTSTART;TZID=America/Detroit:20260307T100000
DTEND;TZID=America/Detroit:20260307T150000
DTSTAMP:20260419T232008
CREATED:20250818T143237Z
LAST-MODIFIED:20250818T143237Z
UID:3061-1772877600-1772895600@lefleurmuseumdistrict.com
SUMMARY:Fossil Road Show
DESCRIPTION:
URL:https://lefleurmuseumdistrict.com/event/fossil-road-show-2/
LOCATION:MISSISSIPPI MUSEUM OF NATURAL SCIENCE\, 2148 Riverside Dr\, Jackson\, MS\, 39202\, United States
CATEGORIES:MISSISSIPPI MUSEUM OF NATURAL SCIENCE
END:VEVENT
BEGIN:VEVENT
DTSTART;TZID=America/Detroit:20260303T120000
DTEND;TZID=America/Detroit:20260303T130000
DTSTAMP:20260419T232008
CREATED:20251107T192825Z
LAST-MODIFIED:20251107T192825Z
UID:3110-1772539200-1772542800@lefleurmuseumdistrict.com
SUMMARY:March Noon Lecture -  "Host Fish and the Parasitic Life Cycle of Freshwater Mussels"
DESCRIPTION:
URL:https://lefleurmuseumdistrict.com/event/march-noon-lecture-host-fish-and-the-parasitic-life-cycle-of-freshwater-mussels/
LOCATION:MISSISSIPPI MUSEUM OF NATURAL SCIENCE\, 2148 Riverside Dr\, Jackson\, MS\, 39202\, United States
CATEGORIES:MISSISSIPPI MUSEUM OF NATURAL SCIENCE
END:VEVENT
BEGIN:VEVENT
DTSTART;TZID=America/Detroit:20260215T130000
DTEND;TZID=America/Detroit:20260215T150000
DTSTAMP:20260419T232008
CREATED:20250903T144941Z
LAST-MODIFIED:20250903T144941Z
UID:3089-1771160400-1771167600@lefleurmuseumdistrict.com
SUMMARY:Animal Observer - Girl Scouts Winter Workshop
DESCRIPTION:
URL:https://lefleurmuseumdistrict.com/event/animal-observer-girl-scouts-winter-workshop/
LOCATION:MISSISSIPPI MUSEUM OF NATURAL SCIENCE\, 2148 Riverside Dr\, Jackson\, MS\, 39202\, United States
CATEGORIES:MISSISSIPPI MUSEUM OF NATURAL SCIENCE
END:VEVENT
BEGIN:VEVENT
DTSTART;TZID=America/Detroit:20260203T120000
DTEND;TZID=America/Detroit:20260203T130000
DTSTAMP:20260419T232008
CREATED:20251107T192739Z
LAST-MODIFIED:20251107T192739Z
UID:3108-1770120000-1770123600@lefleurmuseumdistrict.com
SUMMARY:February Noon Lecture - "Rediscovering a southeastern endemic plant: The importance of independent curiosity\, field work\, and a diversity of taxonomic techniques"
DESCRIPTION:
URL:https://lefleurmuseumdistrict.com/event/february-noon-lecture-rediscovering-a-southeastern-endemic-plant-the-importance-of-independent-curiosity-field-work-and-a-diversity-of-taxonomic-techniques/
LOCATION:MISSISSIPPI MUSEUM OF NATURAL SCIENCE\, 2148 Riverside Dr\, Jackson\, MS\, 39202\, United States
CATEGORIES:MISSISSIPPI MUSEUM OF NATURAL SCIENCE
END:VEVENT
BEGIN:VEVENT
DTSTART;VALUE=DATE:20260201
DTEND;VALUE=DATE:20260202
DTSTAMP:20260419T232008
CREATED:20260121T162128Z
LAST-MODIFIED:20260121T162128Z
UID:3257-1769904000-1769990399@lefleurmuseumdistrict.com
SUMMARY:Spring Break camp registration opens
DESCRIPTION:
URL:https://lefleurmuseumdistrict.com/event/spring-break-camp-registration-opens/
LOCATION:MISSISSIPPI MUSEUM OF NATURAL SCIENCE\, 2148 Riverside Dr\, Jackson\, MS\, 39202\, United States
CATEGORIES:MISSISSIPPI MUSEUM OF NATURAL SCIENCE
END:VEVENT
BEGIN:VEVENT
DTSTART;TZID=America/Detroit:20260101T080000
DTEND;TZID=America/Detroit:20260101T170000
DTSTAMP:20260419T232008
CREATED:20251117T150055Z
LAST-MODIFIED:20251117T150055Z
UID:3141-1767254400-1767286800@lefleurmuseumdistrict.com
SUMMARY:Mississippi Museum of Natural Science and LeFleur's Bluff Playground closed for New Year's
DESCRIPTION:
URL:https://lefleurmuseumdistrict.com/event/mississippi-museum-of-natural-science-and-lefleurs-bluff-playground-closed-for-new-years/
LOCATION:MISSISSIPPI MUSEUM OF NATURAL SCIENCE\, 2148 Riverside Dr\, Jackson\, MS\, 39202\, United States
CATEGORIES:MISSISSIPPI MUSEUM OF NATURAL SCIENCE
END:VEVENT
BEGIN:VEVENT
DTSTART;VALUE=DATE:20260101
DTEND;VALUE=DATE:20260102
DTSTAMP:20260419T232008
CREATED:20251121T145617Z
LAST-MODIFIED:20251121T145617Z
UID:3153-1767225600-1767311999@lefleurmuseumdistrict.com
SUMMARY:Museum of Natural Science and LeFleur's Bluff Playground closed
DESCRIPTION:
URL:https://lefleurmuseumdistrict.com/event/museum-of-natural-science-and-lefleurs-bluff-playground-closed-3/
LOCATION:MISSISSIPPI MUSEUM OF NATURAL SCIENCE\, 2148 Riverside Dr\, Jackson\, MS\, 39202\, United States
CATEGORIES:MISSISSIPPI MUSEUM OF NATURAL SCIENCE
END:VEVENT
BEGIN:VEVENT
DTSTART;VALUE=DATE:20251226
DTEND;VALUE=DATE:20251227
DTSTAMP:20260419T232008
CREATED:20251121T145432Z
LAST-MODIFIED:20251121T145432Z
UID:3151-1766707200-1766793599@lefleurmuseumdistrict.com
SUMMARY:Museum of Natural Science closed
DESCRIPTION:
URL:https://lefleurmuseumdistrict.com/event/museum-of-natural-science-closed-2/
LOCATION:MISSISSIPPI MUSEUM OF NATURAL SCIENCE\, 2148 Riverside Dr\, Jackson\, MS\, 39202\, United States
CATEGORIES:MISSISSIPPI MUSEUM OF NATURAL SCIENCE
END:VEVENT
BEGIN:VEVENT
DTSTART;VALUE=DATE:20251225
DTEND;VALUE=DATE:20251226
DTSTAMP:20260419T232008
CREATED:20251121T145336Z
LAST-MODIFIED:20251121T145336Z
UID:3149-1766620800-1766707199@lefleurmuseumdistrict.com
SUMMARY:Museum of Natural Science and LeFleur's Bluff Playground closed
DESCRIPTION:
URL:https://lefleurmuseumdistrict.com/event/museum-of-natural-science-and-lefleurs-bluff-playground-closed-2/
LOCATION:MISSISSIPPI MUSEUM OF NATURAL SCIENCE\, 2148 Riverside Dr\, Jackson\, MS\, 39202\, United States
CATEGORIES:MISSISSIPPI MUSEUM OF NATURAL SCIENCE
END:VEVENT
BEGIN:VEVENT
DTSTART;TZID=America/Detroit:20251224T080000
DTEND;TZID=America/Detroit:20251225T170000
DTSTAMP:20260419T232008
CREATED:20251117T150008Z
LAST-MODIFIED:20251117T150008Z
UID:3139-1766563200-1766682000@lefleurmuseumdistrict.com
SUMMARY:Mississippi Museum of Natural Science and LeFleur's Bluff playground closed for Christmas
DESCRIPTION:
URL:https://lefleurmuseumdistrict.com/event/mississippi-museum-of-natural-science-and-lefleurs-bluff-playground-closed-for-christmas/
LOCATION:MISSISSIPPI MUSEUM OF NATURAL SCIENCE\, 2148 Riverside Dr\, Jackson\, MS\, 39202\, United States
CATEGORIES:MISSISSIPPI MUSEUM OF NATURAL SCIENCE
END:VEVENT
BEGIN:VEVENT
DTSTART;TZID=America/Detroit:20251214T130000
DTEND;TZID=America/Detroit:20251214T150000
DTSTAMP:20260419T232008
CREATED:20251117T151909Z
LAST-MODIFIED:20251117T151909Z
UID:3143-1765717200-1765724400@lefleurmuseumdistrict.com
SUMMARY:The Great Gingerbread Escape - Scout Workshop
DESCRIPTION:
URL:https://lefleurmuseumdistrict.com/event/the-great-gingerbread-escape-scout-workshop/
LOCATION:MISSISSIPPI MUSEUM OF NATURAL SCIENCE\, 2148 Riverside Dr\, Jackson\, MS\, 39202\, United States
CATEGORIES:MISSISSIPPI MUSEUM OF NATURAL SCIENCE
END:VEVENT
BEGIN:VEVENT
DTSTART;TZID=America/Detroit:20251212T180000
DTEND;TZID=America/Detroit:20251212T203000
DTSTAMP:20260419T232008
CREATED:20250131T180126Z
LAST-MODIFIED:20250801T154052Z
UID:2903-1765562400-1765571400@lefleurmuseumdistrict.com
SUMMARY:Snow Much Fun
DESCRIPTION:
URL:https://lefleurmuseumdistrict.com/event/snow-much-fun-night-1/
LOCATION:MISSISSIPPI MUSEUM OF NATURAL SCIENCE\, 2148 Riverside Dr\, Jackson\, MS\, 39202\, United States
CATEGORIES:MISSISSIPPI MUSEUM OF NATURAL SCIENCE
END:VEVENT
BEGIN:VEVENT
DTSTART;TZID=America/Detroit:20251205T090000
DTEND;TZID=America/Detroit:20251205T120000
DTSTAMP:20260419T232008
CREATED:20250131T175846Z
LAST-MODIFIED:20250131T175846Z
UID:2901-1764925200-1764936000@lefleurmuseumdistrict.com
SUMMARY:S.T.E.M. with Snowflakes
DESCRIPTION:
URL:https://lefleurmuseumdistrict.com/event/s-t-e-m-with-snowflakes-2/
LOCATION:MISSISSIPPI MUSEUM OF NATURAL SCIENCE\, 2148 Riverside Dr\, Jackson\, MS\, 39202\, United States
CATEGORIES:MISSISSIPPI MUSEUM OF NATURAL SCIENCE
END:VEVENT
BEGIN:VEVENT
DTSTART;VALUE=DATE:20251128
DTEND;VALUE=DATE:20251129
DTSTAMP:20260419T232008
CREATED:20251121T145229Z
LAST-MODIFIED:20251121T145229Z
UID:3147-1764288000-1764374399@lefleurmuseumdistrict.com
SUMMARY:Museum of Natural Science closed
DESCRIPTION:
URL:https://lefleurmuseumdistrict.com/event/museum-of-natural-science-closed/
LOCATION:MISSISSIPPI MUSEUM OF NATURAL SCIENCE\, 2148 Riverside Dr\, Jackson\, MS\, 39202\, United States
CATEGORIES:MISSISSIPPI MUSEUM OF NATURAL SCIENCE
END:VEVENT
BEGIN:VEVENT
DTSTART;TZID=America/Detroit:20251127T080000
DTEND;TZID=America/Detroit:20251128T170000
DTSTAMP:20260419T232008
CREATED:20251117T145832Z
LAST-MODIFIED:20251117T145832Z
UID:3135-1764230400-1764349200@lefleurmuseumdistrict.com
SUMMARY:Mississippi Museum of Natural Science Closed for Thanksgiving
DESCRIPTION:
URL:https://lefleurmuseumdistrict.com/event/mississippi-museum-of-natural-science-closed-for-thanksgiving/
LOCATION:MISSISSIPPI MUSEUM OF NATURAL SCIENCE\, 2148 Riverside Dr\, Jackson\, MS\, 39202\, United States
CATEGORIES:MISSISSIPPI MUSEUM OF NATURAL SCIENCE
END:VEVENT
BEGIN:VEVENT
DTSTART;TZID=America/Detroit:20251127T080000
DTEND;TZID=America/Detroit:20251127T170000
DTSTAMP:20260419T232008
CREATED:20251117T145919Z
LAST-MODIFIED:20251117T145919Z
UID:3137-1764230400-1764262800@lefleurmuseumdistrict.com
SUMMARY:LeFleur's Bluff Playground closed for Thanksgiving
DESCRIPTION:
URL:https://lefleurmuseumdistrict.com/event/lefleurs-bluff-playground-closed-for-thanksgiving/
LOCATION:MISSISSIPPI MUSEUM OF NATURAL SCIENCE\, 2148 Riverside Dr\, Jackson\, MS\, 39202\, United States
CATEGORIES:MISSISSIPPI MUSEUM OF NATURAL SCIENCE
END:VEVENT
BEGIN:VEVENT
DTSTART;VALUE=DATE:20251127
DTEND;VALUE=DATE:20251128
DTSTAMP:20260419T232008
CREATED:20251121T145147Z
LAST-MODIFIED:20251121T145147Z
UID:3145-1764201600-1764287999@lefleurmuseumdistrict.com
SUMMARY:Museum of Natural Science and LeFleur's Bluff Playground Closed
DESCRIPTION:
URL:https://lefleurmuseumdistrict.com/event/museum-of-natural-science-and-lefleurs-bluff-playground-closed/
LOCATION:MISSISSIPPI MUSEUM OF NATURAL SCIENCE\, 2148 Riverside Dr\, Jackson\, MS\, 39202\, United States
CATEGORIES:MISSISSIPPI MUSEUM OF NATURAL SCIENCE
END:VEVENT
BEGIN:VEVENT
DTSTART;TZID=America/Detroit:20251125T100000
DTEND;TZID=America/Detroit:20251125T120000
DTSTAMP:20260419T232008
CREATED:20250131T175414Z
LAST-MODIFIED:20250131T175414Z
UID:2899-1764064800-1764072000@lefleurmuseumdistrict.com
SUMMARY:Let’s Talk Turkey
DESCRIPTION:
URL:https://lefleurmuseumdistrict.com/event/lets-talk-turkey-2/
LOCATION:MISSISSIPPI MUSEUM OF NATURAL SCIENCE\, 2148 Riverside Dr\, Jackson\, MS\, 39202\, United States
CATEGORIES:MISSISSIPPI MUSEUM OF NATURAL SCIENCE
END:VEVENT
BEGIN:VEVENT
DTSTART;TZID=America/Detroit:20251115T110000
DTEND;TZID=America/Detroit:20251115T150000
DTSTAMP:20260419T232008
CREATED:20251022T145648Z
LAST-MODIFIED:20251022T145648Z
UID:3104-1763204400-1763218800@lefleurmuseumdistrict.com
SUMMARY:GIS Day 2025
DESCRIPTION:
URL:https://lefleurmuseumdistrict.com/event/gis-day-2025/
LOCATION:MISSISSIPPI MUSEUM OF NATURAL SCIENCE\, 2148 Riverside Dr\, Jackson\, MS\, 39202\, United States
CATEGORIES:MISSISSIPPI MUSEUM OF NATURAL SCIENCE
END:VEVENT
BEGIN:VEVENT
DTSTART;TZID=America/Detroit:20251109T130000
DTEND;TZID=America/Detroit:20251109T150000
DTSTAMP:20260419T232008
CREATED:20251002T162524Z
LAST-MODIFIED:20251002T162524Z
UID:3099-1762693200-1762700400@lefleurmuseumdistrict.com
SUMMARY:Daisy Girl Scouts: Math in Nature Workshop
DESCRIPTION:
URL:https://lefleurmuseumdistrict.com/event/daisy-girl-scouts-math-in-nature-workshop/
LOCATION:MISSISSIPPI MUSEUM OF NATURAL SCIENCE\, 2148 Riverside Dr\, Jackson\, MS\, 39202\, United States
CATEGORIES:MISSISSIPPI MUSEUM OF NATURAL SCIENCE
END:VEVENT
BEGIN:VEVENT
DTSTART;TZID=America/Detroit:20251024T173000
DTEND;TZID=America/Detroit:20251024T203000
DTSTAMP:20260419T232008
CREATED:20250131T175318Z
LAST-MODIFIED:20250821T150403Z
UID:2897-1761327000-1761337800@lefleurmuseumdistrict.com
SUMMARY:Park After Dark
DESCRIPTION:
URL:https://lefleurmuseumdistrict.com/event/park-after-dark-3/
LOCATION:MISSISSIPPI MUSEUM OF NATURAL SCIENCE\, 2148 Riverside Dr\, Jackson\, MS\, 39202\, United States
CATEGORIES:MISSISSIPPI MUSEUM OF NATURAL SCIENCE,MS CHILDREN’S MUSEUM
END:VEVENT
BEGIN:VEVENT
DTSTART;TZID=America/Detroit:20251018T100000
DTEND;TZID=America/Detroit:20251018T123000
DTSTAMP:20260419T232008
CREATED:20251001T140724Z
LAST-MODIFIED:20251001T140724Z
UID:3097-1760781600-1760790600@lefleurmuseumdistrict.com
SUMMARY:Wild Wonders Painting Class: Fantastic Fossils
DESCRIPTION:
URL:https://lefleurmuseumdistrict.com/event/wild-wonders-painting-class-fantastic-fossils/
LOCATION:MISSISSIPPI MUSEUM OF NATURAL SCIENCE\, 2148 Riverside Dr\, Jackson\, MS\, 39202\, United States
CATEGORIES:MISSISSIPPI MUSEUM OF NATURAL SCIENCE
END:VEVENT
BEGIN:VEVENT
DTSTART;TZID=America/Detroit:20251012T130000
DTEND;TZID=America/Detroit:20251012T150000
DTSTAMP:20260419T232008
CREATED:20250903T144822Z
LAST-MODIFIED:20250903T144822Z
UID:3087-1760274000-1760281200@lefleurmuseumdistrict.com
SUMMARY:Digging in the Past - Scouting America Fall Workshop
DESCRIPTION:
URL:https://lefleurmuseumdistrict.com/event/digging-in-the-past-scouting-america-fall-workshop/
LOCATION:MISSISSIPPI MUSEUM OF NATURAL SCIENCE\, 2148 Riverside Dr\, Jackson\, MS\, 39202\, United States
CATEGORIES:MISSISSIPPI MUSEUM OF NATURAL SCIENCE
END:VEVENT
END:VCALENDAR