
BEGIN:VCALENDAR
VERSION:2.0
PRODID:-//LeFleur Museum District - ECPv6.15.20//NONSGML v1.0//EN
CALSCALE:GREGORIAN
METHOD:PUBLISH
X-WR-CALNAME:LeFleur Museum District
X-ORIGINAL-URL:https://lefleurmuseumdistrict.com
X-WR-CALDESC:Events for LeFleur Museum District
REFRESH-INTERVAL;VALUE=DURATION:PT1H
X-Robots-Tag:noindex
X-PUBLISHED-TTL:PT1H
BEGIN:VTIMEZONE
TZID:America/Detroit
BEGIN:DAYLIGHT
TZOFFSETFROM:-0500
TZOFFSETTO:-0400
TZNAME:EDT
DTSTART:20250309T070000
END:DAYLIGHT
BEGIN:STANDARD
TZOFFSETFROM:-0400
TZOFFSETTO:-0500
TZNAME:EST
DTSTART:20251102T060000
END:STANDARD
BEGIN:DAYLIGHT
TZOFFSETFROM:-0500
TZOFFSETTO:-0400
TZNAME:EDT
DTSTART:20260308T070000
END:DAYLIGHT
BEGIN:STANDARD
TZOFFSETFROM:-0400
TZOFFSETTO:-0500
TZNAME:EST
DTSTART:20261101T060000
END:STANDARD
BEGIN:DAYLIGHT
TZOFFSETFROM:-0500
TZOFFSETTO:-0400
TZNAME:EDT
DTSTART:20270314T070000
END:DAYLIGHT
BEGIN:STANDARD
TZOFFSETFROM:-0400
TZOFFSETTO:-0500
TZNAME:EST
DTSTART:20271107T060000
END:STANDARD
END:VTIMEZONE
BEGIN:VEVENT
DTSTART;VALUE=DATE:20260131
DTEND;VALUE=DATE:20260824
DTSTAMP:20260420T004142
CREATED:20251121T194855Z
LAST-MODIFIED:20251121T194855Z
UID:3155-1769817600-1787529599@lefleurmuseumdistrict.com
SUMMARY:"Giants of the Ice Age" Exhibit
DESCRIPTION:
URL:https://lefleurmuseumdistrict.com/event/giants-of-the-ice-age-exhibit/
LOCATION:MISSISSIPPI MUSEUM OF NATURAL SCIENCE\, 2148 Riverside Dr\, Jackson\, MS\, 39202\, United States
CATEGORIES:MISSISSIPPI MUSEUM OF NATURAL SCIENCE
END:VEVENT
BEGIN:VEVENT
DTSTART;TZID=America/Detroit:20260505T120000
DTEND;TZID=America/Detroit:20260505T130000
DTSTAMP:20260420T004142
CREATED:20251107T193004Z
LAST-MODIFIED:20251107T193004Z
UID:3114-1777982400-1777986000@lefleurmuseumdistrict.com
SUMMARY:May Noon Lecture - "Connecting Children Through Nature: Programs at The Crosby Arboretum"
DESCRIPTION:
URL:https://lefleurmuseumdistrict.com/event/may-noon-lecture-connecting-children-through-nature-programs-at-the-crosby-arboretum/
LOCATION:MISSISSIPPI MUSEUM OF NATURAL SCIENCE\, 2148 Riverside Dr\, Jackson\, MS\, 39202\, United States
CATEGORIES:MISSISSIPPI MUSEUM OF NATURAL SCIENCE
END:VEVENT
BEGIN:VEVENT
DTSTART;TZID=America/Detroit:20260510T130000
DTEND;TZID=America/Detroit:20260510T150000
DTSTAMP:20260420T004142
CREATED:20250903T145042Z
LAST-MODIFIED:20250903T145042Z
UID:3091-1778418000-1778425200@lefleurmuseumdistrict.com
SUMMARY:My Tiger Jungle - Scouting America Spring Workshop
DESCRIPTION:
URL:https://lefleurmuseumdistrict.com/event/my-tiger-jungle-scouting-america-spring-workshop/
LOCATION:MISSISSIPPI MUSEUM OF NATURAL SCIENCE\, 2148 Riverside Dr\, Jackson\, MS\, 39202\, United States
CATEGORIES:MISSISSIPPI MUSEUM OF NATURAL SCIENCE
END:VEVENT
END:VCALENDAR